BEGIN:VCALENDAR
VERSION:2.0
PRODID:-//ChamberMaster//Event Calendar 2.0//EN
METHOD:PUBLISH
X-PUBLISHED-TTL:P3D
REFRESH-INTERVAL:P3D
CALSCALE:GREGORIAN
BEGIN:VEVENT
DTSTART:20131122T003000Z
DTEND:20131122T043000Z
X-MICROSOFT-CDO-ALLDAYEVENT:FALSE
SUMMARY:Lake Country Women's Club Fall Fashion Show
DESCRIPTION:!--[if !vml]--  !--[endif]-- \n\n	You are cordially invited to \n\n	The Lake Country Women's Club \n\n	Ladies Fall Fashion Show\n\n	At The Delafield Brewhaus\, 3832 Hillside Dr.\, Delafield\, WI  53018\n\n	 \n\n	Thursday\, November 21\, 2013\n\n	 \n\n	6:30-7:30 p.m. Silent Auction\, Raffle & Cash Bar\n\n	7:30-8:15 p.m. Fashion Show and Dinner\n\n	8:30 p.m. Silent Auction Closes\n\n	 \n\n	 \n\n	$35 per person by November 14th  ($40 after November 14th)\n\n	 \n\n	 \n\n	Join us for a night of fun and fashion!  Designs from CAbi and Christy's Mainstream Boutique in Delafield will be featured.  Ticket price includes a delicious sit down dinner served with wine.  All funds benefit the \n\n	charities and scholarships of the Lake Country Women's Club.\n\n	 \n\n	Go to:  lakecountrywomensclub.org to view a copy of the invitation. \n\n	 \n\n	Please mail your registration with payment to:\n\n	LCWC   Fall Fashion Show\n\n	P.O. Box 180464\, Delafield\, WI  53018\n\n	 \n\n	NOTE:  If you would like to arrange/reserve your own table of 8\, please submit all checks and names together with one reservation.
X-ALT-DESC;FMTTYPE=text/html:<p class="MsoNormal" style="margin: 0in 0in 0pt 2in\; text-indent: 0.5in\;">\n	<span style="color: black\; font-family: &quot\;Arial&quot\;\,&quot\;sans-serif&quot\;\; mso-no-proof: yes\;"><v:shapetype coordsize="21600\,21600" filled="f" id="_x0000_t75" o:preferrelative="t" o:spt="75" path="m@4@5l@4@11@9@11@9@5xe" stroked="f"> <v:stroke joinstyle="miter"> <v:formulas> <v:f eqn="if lineDrawn pixelLineWidth 0"> <v:f eqn="sum @0 1 0"> <v:f eqn="sum 0 0 @1"> <v:f eqn="prod @2 1 2"> <v:f eqn="prod @3 21600 pixelWidth"> <v:f eqn="prod @3 21600 pixelHeight"> <v:f eqn="sum @0 0 1"> <v:f eqn="prod @6 1 2"> <v:f eqn="prod @7 21600 pixelWidth"> <v:f eqn="sum @8 21600 0"> <v:f eqn="prod @7 21600 pixelHeight"> <v:f eqn="sum @10 21600 0"> </v:f></v:f></v:f></v:f></v:f></v:f></v:f></v:f></v:f></v:f></v:f></v:f></v:formulas> <v:path gradientshapeok="t" o:connecttype="rect" o:extrusionok="f"> <o:lock aspectratio="t" v:ext="edit"> </o:lock></v:path></v:stroke></v:shapetype><v:shape alt="http://www.vectorimages.org/09/0920100513081145793.jpg" id="Picture_x0020_2" o:spid="_x0000_i1025" style="width: 218.25pt\; height: 207pt\; visibility: visible\; mso-wrap-style: square\;" type="#_x0000_t75"> <v:imagedata o:title="0920100513081145793" src="file:///C:\\Users\\Owner\\AppData\\Local\\Temp\\msohtmlclip1\\01\\clip_image001.jpg"> </v:imagedata></v:shape>&lt\;!--[if !vml]--&gt\;<font size="3"><font face="Times New Roman">&lt\;!--[endif]--&gt\;</font></font></span><o:p></o:p></p>\n<p align="center" class="MsoNormal" style="margin: 0in 0in 0pt\; text-align: center\;">\n	<b style="mso-bidi-font-weight: normal\;"><i style="mso-bidi-font-style: normal\;"><span style="font-size: 26pt\; text-decoration: none\; text-underline: none\;"><u><font color="#000000"><font face="Calibri">You are cordially invited to&hellip\;<o:p></o:p></font></font></u></span></i></b></p>\n<p align="center" class="MsoNormal" style="margin: 0in 0in 0pt\; text-align: center\;">\n	<b style="mso-bidi-font-weight: normal\;"><span style="color: rgb(165\, 0\, 33)\; font-family: &quot\;Arial Narrow&quot\;\,&quot\;sans-serif&quot\;\; font-size: 36pt\; text-decoration: none\; text-underline: none\;"><u>The Lake Country Women&rsquo\;s Club <o:p></o:p></u></span></b></p>\n<p align="center" class="MsoNormal" style="margin: 0in 0in 0pt\; text-align: center\;">\n	<b style="mso-bidi-font-weight: normal\;"><span style="color: rgb(165\, 0\, 33)\; font-family: &quot\;Arial Narrow&quot\;\,&quot\;sans-serif&quot\;\; font-size: 36pt\; text-decoration: none\; text-underline: none\;"><u>Ladies Fall Fashion Show<o:p></o:p></u></span></b></p>\n<p align="center" class="MsoNormal" style="margin: 0in 0in 0pt\; text-align: center\;">\n	<b style="mso-bidi-font-weight: normal\;"><span style="font-size: 14pt\; text-decoration: none\; text-underline: none\;"><u><font color="#000000"><font face="Calibri">At The Delafield Brewhaus\, 3832 Hillside Dr.\, Delafield\, WI<span style="mso-spacerun: yes\;">&nbsp\; </span>53018<o:p></o:p></font></font></u></span></b></p>\n<p align="center" class="MsoNormal" style="margin: 0in 0in 0pt\; text-align: center\;">\n	<b style="mso-bidi-font-weight: normal\;"><span style="color: rgb(204\, 204\, 0)\; font-size: 14pt\; text-decoration: none\; text-underline: none\;"><o:p><u><font face="Calibri">&nbsp\;</font></u></o:p></span></b></p>\n<p align="center" class="MsoNormal" style="margin: 0in 0in 0pt\; text-align: center\;">\n	<u><b style="mso-bidi-font-weight: normal\;"><span style="color: rgb(153\, 102\, 51)\; font-family: &quot\;Footlight MT Light&quot\;\,&quot\;serif&quot\;\; font-size: 36pt\; text-decoration: none\; text-underline: none\;">Thursday\, November 21\, 2013</span></b><b style="mso-bidi-font-weight: normal\;"><span style="color: rgb(153\, 102\, 51)\; font-family: &quot\;Footlight MT Light&quot\;\,&quot\;serif&quot\;\; font-size: 16pt\; text-decoration: none\; text-underline: none\;"><o:p></o:p></span></b></u></p>\n<p align="center" class="MsoNormal" style="margin: 0in 0in 0pt\; text-align: center\;">\n	<b style="mso-bidi-font-weight: normal\;"><span style="color: rgb(153\, 102\, 51)\; font-family: &quot\;Footlight MT Light&quot\;\,&quot\;serif&quot\;\; font-size: 16pt\; text-decoration: none\; text-underline: none\;"><o:p><u>&nbsp\;</u></o:p></span></b></p>\n<p align="center" class="MsoNormal" style="margin: 0in 0in 0pt\; text-align: center\;">\n	<b style="mso-bidi-font-weight: normal\;"><span style="font-size: 14pt\; text-decoration: none\; mso-bidi-font-family: Calibri\; mso-bidi-theme-font: minor-latin\; text-underline: none\;"><u><font color="#000000"><font face="Calibri">6:30-7:30 p.m. Silent Auction\, Raffle &amp\; Cash Bar<span style="color: rgb(204\, 204\, 0)\;"><o:p></o:p></span></font></font></u></span></b></p>\n<p align="center" class="MsoNormal" style="margin: 0in 0in 0pt\; text-align: center\;">\n	<b style="mso-bidi-font-weight: normal\;"><span style="font-size: 14pt\; text-decoration: none\; mso-bidi-font-family: Calibri\; mso-bidi-theme-font: minor-latin\; text-underline: none\;"><u><font color="#000000"><font face="Calibri">7:30-8:15 p.m. Fashion Show and Dinner<o:p></o:p></font></font></u></span></b></p>\n<p align="center" class="MsoNormal" style="margin: 0in 0in 0pt\; text-align: center\;">\n	<b style="mso-bidi-font-weight: normal\;"><span style="font-size: 14pt\; text-decoration: none\; mso-bidi-font-family: Calibri\; mso-bidi-theme-font: minor-latin\; text-underline: none\;"><u><font color="#000000"><font face="Calibri">8:30 p.m. Silent Auction Closes<o:p></o:p></font></font></u></span></b></p>\n<p align="center" class="MsoNormal" style="margin: 0in 0in 0pt\; text-align: center\;">\n	<b style="mso-bidi-font-weight: normal\;"><span style="font-size: 8pt\; text-decoration: none\; mso-bidi-font-family: Calibri\; mso-bidi-theme-font: minor-latin\; text-underline: none\;"><o:p><u><font color="#000000" face="Calibri">&nbsp\;</font></u></o:p></span></b></p>\n<p align="center" class="MsoNormal" style="margin: 0in 0in 0pt\; text-align: center\;">\n	<b style="mso-bidi-font-weight: normal\;"><span style="font-size: 8pt\; text-decoration: none\; mso-bidi-font-family: Calibri\; mso-bidi-theme-font: minor-latin\; text-underline: none\;"><o:p><u><font color="#000000" face="Calibri">&nbsp\;</font></u></o:p></span></b></p>\n<p align="center" class="MsoNormal" style="margin: 0in 0in 0pt\; text-align: center\;">\n	<b style="mso-bidi-font-weight: normal\;"><span style="color: rgb(165\, 0\, 33)\; font-family: &quot\;Footlight MT Light&quot\;\,&quot\;serif&quot\;\; font-size: 16pt\; text-decoration: none\; mso-bidi-font-family: Calibri\; mso-bidi-theme-font: minor-latin\; text-underline: none\;"><u>$35 per person by November 14<sup>th</sup> <span style="mso-spacerun: yes\;">&nbsp\;</span>($40 after November 14<sup>th</sup>)<o:p></o:p></u></span></b></p>\n<p align="center" class="MsoNormal" style="margin: 0in 0in 0pt\; text-align: center\;">\n	<b style="mso-bidi-font-weight: normal\;"><span style="color: rgb(165\, 0\, 33)\; font-family: &quot\;Footlight MT Light&quot\;\,&quot\;serif&quot\;\; font-size: 8pt\; text-decoration: none\; mso-bidi-font-family: Calibri\; mso-bidi-theme-font: minor-latin\; text-underline: none\;"><o:p><u>&nbsp\;</u></o:p></span></b></p>\n<p align="center" class="MsoNormal" style="margin: 0in 0in 0pt\; text-align: center\;">\n	<b style="mso-bidi-font-weight: normal\;"><span style="color: rgb(165\, 0\, 33)\; font-family: &quot\;Footlight MT Light&quot\;\,&quot\;serif&quot\;\; font-size: 8pt\; text-decoration: none\; mso-bidi-font-family: Calibri\; mso-bidi-theme-font: minor-latin\; text-underline: none\;"><o:p><u>&nbsp\;</u></o:p></span></b></p>\n<p align="center" class="MsoNormal" style="margin: 0in 0in 0pt\; text-align: center\;">\n	<b style="mso-bidi-font-weight: normal\;"><span style="font-size: 18pt\; text-decoration: none\; mso-bidi-font-family: Calibri\; mso-bidi-theme-font: minor-latin\; text-underline: none\;"><u><font color="#000000"><font face="Calibri">Join us for a night of fun and fashion!<span style="mso-spacerun: yes\;">&nbsp\; </span>Designs from CAbi and Christy&rsquo\;s Mainstream Boutique in Delafield will be featured.<span style="mso-spacerun: yes\;">&nbsp\; </span>Ticket price includes a delicious sit down dinner served with wine.<span style="mso-spacerun: yes\;">&nbsp\; </span>All funds benefit the <o:p></o:p></font></font></u></span></b></p>\n<p align="center" class="MsoNormal" style="margin: 0in 0in 0pt\; text-align: center\;">\n	<b style="mso-bidi-font-weight: normal\;"><span style="font-size: 18pt\; text-decoration: none\; mso-bidi-font-family: Calibri\; mso-bidi-theme-font: minor-latin\; text-underline: none\;"><u><font color="#000000"><font face="Calibri">charities and scholarships of the Lake Country Women&rsquo\;s Club.<o:p></o:p></font></font></u></span></b></p>\n<p align="center" class="MsoNormal" style="margin: 0in 0in 0pt\; text-align: center\;">\n	<b style="mso-bidi-font-weight: normal\;"><span style="font-size: 8pt\; text-decoration: none\; mso-bidi-font-family: Calibri\; mso-bidi-theme-font: minor-latin\; text-underline: none\;"><o:p><u><font color="#000000" face="Calibri">&nbsp\;</font></u></o:p></span></b></p>\n<p align="center" class="MsoNormal" style="margin: 0in 0in 0pt\; text-align: center\;">\n	<b style="mso-bidi-font-weight: normal\;"><span style="font-size: 18pt\; text-decoration: none\; mso-bidi-font-family: Calibri\; mso-bidi-theme-font: minor-latin\; text-underline: none\;"><u><font face="Calibri"><font color="#000000">Go to:<span style="mso-spacerun: yes\;">&nbsp\; </span></font><span style="color: maroon\;">lakecountrywomensclub.org </span><font color="#000000">to view a copy of the invitation.</font><span style="color: rgb(153\, 0\, 51)\;"> <o:p></o:p></span></font></u></span></b></p>\n<p align="center" class="MsoNormal" style="margin: 0in 0in 0pt\; text-align: center\;">\n	<span style="font-size: 8pt\; text-decoration: none\; mso-bidi-font-family: Calibri\; mso-bidi-theme-font: minor-latin\; text-underline: none\;"><o:p><u><font color="#000000" face="Calibri">&nbsp\;</font></u></o:p></span></p>\n<p align="center" class="MsoNormal" style="margin: 0in 0in 0pt\; text-align: center\;">\n	<b style="mso-bidi-font-weight: normal\;"><span style="font-size: 14pt\; text-decoration: none\; mso-bidi-font-family: Calibri\; mso-bidi-theme-font: minor-latin\; text-underline: none\;"><u><font color="#000000"><font face="Calibri">Please mail your registration with payment to:<o:p></o:p></font></font></u></span></b></p>\n<p align="center" class="MsoNormal" style="margin: 0in 0in 0pt\; text-align: center\;">\n	<b style="mso-bidi-font-weight: normal\;"><span style="font-size: 14pt\; text-decoration: none\; mso-bidi-font-family: Calibri\; mso-bidi-theme-font: minor-latin\; text-underline: none\;"><u><font color="#000000"><font face="Calibri">LCWC &ndash\; Fall Fashion Show<o:p></o:p></font></font></u></span></b></p>\n<p align="center" class="MsoNormal" style="margin: 0in 0in 0pt\; text-align: center\;">\n	<b style="mso-bidi-font-weight: normal\;"><span style="font-size: 14pt\; text-decoration: none\; mso-bidi-font-family: Calibri\; mso-bidi-theme-font: minor-latin\; text-underline: none\;"><u><font color="#000000"><font face="Calibri">P.O. Box 180464\, Delafield\, WI<span style="mso-spacerun: yes\;">&nbsp\; </span>53018<o:p></o:p></font></font></u></span></b></p>\n<p align="center" class="MsoNormal" style="margin: 0in 0in 0pt\; text-align: center\;">\n	<b style="mso-bidi-font-weight: normal\;"><span style="text-decoration: none\; mso-bidi-font-family: Calibri\; mso-bidi-theme-font: minor-latin\; text-underline: none\; mso-bidi-font-size: 12.0pt\;"><o:p><u><font color="#000000" face="Calibri" size="3">&nbsp\;</font></u></o:p></span></b></p>\n<p class="MsoNormal" style="margin: 0in 0in 0pt 58.5pt\; text-indent: -45pt\;">\n	<b style="mso-bidi-font-weight: normal\;"><span style="color: rgb(165\, 0\, 33)\; font-size: 14pt\; text-decoration: none\; mso-bidi-font-family: Calibri\; mso-bidi-theme-font: minor-latin\; text-underline: none\;"><u><font face="Calibri">NOTE:<span style="mso-spacerun: yes\;">&nbsp\; </span>If you would like to arrange/reserve your own table of 8\, please submit all checks and names together with one reservation.<span style="mso-spacerun: yes\;">&nbsp\; </span><o:p></o:p></font></u></span></b></p>\n
LOCATION:Delafield Brewhaus\, 3832 Hillside Dr.\, Delafield\, WI\, 53018
UID:e.522.132779
SEQUENCE:3
DTSTAMP:20260420T124449Z
URL:https://business.hartland-wi.org/events/details/lake-country-women-s-club-fall-fashion-show-11-21-2013-132779
END:VEVENT

END:VCALENDAR
