BEGIN:VCALENDAR
VERSION:2.0
PRODID:-//ChamberMaster//Event Calendar 2.0//EN
METHOD:PUBLISH
X-PUBLISHED-TTL:P3D
REFRESH-INTERVAL:P3D
CALSCALE:GREGORIAN
BEGIN:VEVENT
DTSTART:20121108T003000Z
DTEND:20121108T040000Z
X-MICROSOFT-CDO-ALLDAYEVENT:FALSE
SUMMARY:Lake Country Women's Club Fall Fashion Show
DESCRIPTION:The Lake Contry Women's Club invites you to join us for our LCWC Ladies Fall Fashion Show. \n\n	Enjoy a night of fun and fashion\, featuring CAbi and Christy's Mainstream Boutique\, Silent Auction\, Raffle\, Live Auction\, and dinner!  Ticket prices include a delicious sit down dinner served with wine.\n\n	Bring your friends and neighbors\, and help raise money for the charities and scholarships of the Lake Country Women's Club.\n\n	The Fall Fashion Show will be held at Merrill Hills Country Club\, W270S3425 Merrill Hills Rd\, Waukesha\, on Wednesday\, Novemeber 7th. Starting at 6:30pm-7:30pm Silent Auction\, Raffle\, and Cash Bar\, 7:30pm-8:15pm Fashion Show and Dinner\,  8:30pm Live Auction and close of Silent Auction.\n\n	Please visit our website to print off and mail in your registration! www.lakecountrywomensclub.org\n\n	\n\n	We would kindly appreciate your donation to our fundraiser!
X-ALT-DESC;FMTTYPE=text/html:<p>\n	<strong><span style="font-family: arial"><span style="background-color: #ffff00">The Lake Contry Women&#39\;s Club invites you to join us for our LCWC Ladies Fall Fashion Show.&nbsp\;<br />\n	Enjoy&nbsp\;a night of fun and fashion\, featuring CAbi and Christy&#39\;s Mainstream Boutique\, Silent Auction\, Raffle\, Live Auction\, and dinner!&nbsp\; Ticket prices include a delicious sit down dinner served with wine.<br />\n	Bring your friends and neighbors\, and help raise money for the charities and scholarships of the Lake Country Women&#39\;s Club.<br />\n	The Fall Fashion Show will be held at Merrill Hills Country Club\, W270S3425 Merrill Hills Rd\, Waukesha\, on Wednesday\, Novemeber 7th.&nbsp\;Starting at&nbsp\;6:30pm-7:30pm Silent Auction\, Raffle\, and Cash Bar\, 7:30pm-8:15pm Fashion Show and Dinner\,&nbsp\; 8:30pm Live Auction and close of Silent Auction.<br />\n	Please visit our website to print off and mail in your registration! www.lakecountrywomensclub.org<br />\n	<br />\n	We would kindly appreciate your donation to our fundraiser!</span></span></strong></p>\n
LOCATION:Merrill HIlls Country Club\, W270S3425 Merrill Hills Rd\, Waukesha
UID:e.522.132027
SEQUENCE:3
DTSTAMP:20260421T060915Z
URL:https://business.hartland-wi.org/events/details/lake-country-women-s-club-fall-fashion-show-11-07-2012-132027
END:VEVENT

END:VCALENDAR
