BEGIN:VCALENDAR
VERSION:2.0
PRODID:-//ChamberMaster//Event Calendar 2.0//EN
METHOD:PUBLISH
X-PUBLISHED-TTL:P3D
REFRESH-INTERVAL:P3D
CALSCALE:GREGORIAN
BEGIN:VEVENT
DTSTART;VALUE=DATE:20141213
DTEND;VALUE=DATE:20141214
TRANSP:TRANSPARENT
X-MICROSOFT-CDO-ALLDAYEVENT:TRUE
SUMMARY:Lake Country Toys for Tots Collection
DESCRIPTION:Lake Country\n\nToys for Tots Collection\n\n\n\nThis annual collection is promoted by the U.S. Marine Corp Reserve.  They are very busy this year\, so they need our help!  Please drop off your donations and help to make a child's Christmas extra special.\n\n\n\nFriday\, December 5th           4:00 - 7:00 pm\n\nSaturday\, December 6th    12:00 - 5:00 pm\n\nSunday\, December 7th      12:00 - 5:00 pm\n\nSaturday\, December 13th   12:00 - 5:00 pm  Final drop off and Marine pick up
X-ALT-DESC;FMTTYPE=text/html:<div><strong><span style="font-size: 14px\;"><span style="font-family: verdana\;">Lake Country<br />\nToys for Tots Collection</span></span></strong><br />\n<br />\n<em><span style="font-size: 14px\;"><span style="font-family: verdana\;">This annual collection is promoted by the U.S. Marine Corp Reserve.&nbsp\; They are very busy this year\, so they need our help!&nbsp\; Please drop off your donations and help to make&nbsp\;a child&#39\;s Christmas extra special.</span></span></em><br />\n<br />\n<span style="font-size: 14px\;">Friday\, December 5th&nbsp\;&nbsp\; </span>&nbsp\;&nbsp\;&nbsp\;&nbsp\;&nbsp\;&nbsp\;&nbsp\; <span style="font-size: 14px\;">4:00 - 7:00 pm<br />\nSaturday\, December 6th&nbsp\;</span>&nbsp\;&nbsp\;&nbsp\;<span style="font-size: 14px\;">12:00 - 5:00 pm<br />\nSunday\, December 7th&nbsp\; </span>&nbsp\;&nbsp\;&nbsp\;&nbsp\;<span style="font-size: 14px\;">12:00 - 5:00 pm<br />\nSaturday\, December 13th&nbsp\;&nbsp\; 12:00 - 5:00 pm&nbsp\; <u><strong>Final drop off</strong></u> and Marine pick up</span></div>\n
LOCATION:The corner of Hwy C & Watertown Plank Rd.\, Nashotah (The corner between Nashotah Clubhouse and the Red Circle Inn)
UID:e.522.133087
SEQUENCE:3
DTSTAMP:20260421T024435Z
URL:https://business.hartland-wi.org/events/details/lake-country-toys-for-tots-collection-12-13-2014-133087
END:VEVENT

END:VCALENDAR
