BEGIN:VCALENDAR
VERSION:2.0
PRODID:-//ChamberMaster//Event Calendar 2.0//EN
METHOD:PUBLISH
X-PUBLISHED-TTL:P3D
REFRESH-INTERVAL:P3D
CALSCALE:GREGORIAN
BEGIN:VEVENT
DTSTART;VALUE=DATE:20141205
DTEND;VALUE=DATE:20141208
TRANSP:TRANSPARENT
X-MICROSOFT-CDO-ALLDAYEVENT:TRUE
SUMMARY:Lake Country Toys for Tots Collection
DESCRIPTION:Lake Country\n\nToys for Tots Collection\n\n\n\nThis annual collection is promoted by the U.S. Marine Corp Reserve.  They are very busy this year\, so they need our help!  Please drop off your donations and help to make a child's Christmas extra special.\n\nThe Lake Country Community has its "Toys For Tots" collection date in place for this year. We already have at least $6000 donated! This is an annual collection which is promoted by the U.S.Marine Corp Reserves. This year the collection is a Lake Country event.\n\nThe Corner of Hwy C & Watertown Plank Rd will be the drop off spot. (The corner between Nashotah Club House and The Red Circle Inn). Use of this corner has been donated to us and we will have a semi truck in place. The corner will be decorated with lights and hot chocolate will be served. We are hoping to fill that semi with toys!\n\n\n\nFriday\, December 5th           4:00 - 7:00 pm\n\nSaturday\, December 6th    12:00 - 5:00 pm\n\nSunday\, December 7th      12:00 - 5:00 pm\n\nSaturday\, December 13th   12:00 - 5:00 pm  Final Drop Off and Marine pick up
X-ALT-DESC;FMTTYPE=text/html:<div><strong><span style="font-size: 14px\;"><span style="font-family: verdana\;">Lake Country<br />\nToys for Tots Collection</span></span></strong><br />\n<br />\n<em><span style="font-size: 14px\;"><span style="font-family: verdana\;">This annual collection is promoted by the U.S. Marine Corp Reserve.&nbsp\; They are very busy this year\, so they need our help!&nbsp\; Please drop off your donations and help to make&nbsp\;a child&#39\;s Christmas extra special.</span></span></em>\n\n<p>The Lake Country Community has its &quot\;Toys For Tots&quot\; collection date in place for this year. We already have at least $6000 donated! This is an annual collection which is promoted by the U.S.Marine Corp Reserves.&nbsp\;This year the collection is a Lake Country event.</p>\n\n<p>The Corner of Hwy C &amp\; Watertown Plank Rd will be the drop off spot. (The corner between <span style="font-family: calibri\,sans-serif\;"><span style="font-size: 11pt\;">Nashotah Club House and The Red Circle Inn). </span></span>Use of this corner has been donated to us and we will have a semi truck in place. The corner will be decorated with lights and hot chocolate will be served. We are hoping to fill that semi with toys!<br />\n<br />\n<span style="font-size: 14px\;">Friday\, December 5th&nbsp\;&nbsp\; </span>&nbsp\;&nbsp\;&nbsp\;&nbsp\;&nbsp\;&nbsp\;&nbsp\; <span style="font-size: 14px\;">4:00 - 7:00 pm<br />\nSaturday\, December 6th&nbsp\;</span>&nbsp\;&nbsp\;&nbsp\;<span style="font-size: 14px\;">12:00 - 5:00 pm<br />\nSunday\, December 7th&nbsp\; </span>&nbsp\;&nbsp\;&nbsp\;&nbsp\;<span style="font-size: 14px\;">12:00 - 5:00 pm<br />\nSaturday\, December 13th&nbsp\;&nbsp\; 12:00 - 5:00 pm&nbsp\; Final Drop Off&nbsp\;and Marine pick up</span></p>\n</div>\n
LOCATION:The corner of Hwy C & Watertown Plank Rd.\, Nashotah (The corner between Nashotah Clubhouse and the Red Circle Inn)
UID:e.522.133086
SEQUENCE:3
DTSTAMP:20260421T024451Z
URL:https://business.hartland-wi.org/events/details/lake-country-toys-for-tots-collection-12-05-2014-133086
END:VEVENT

END:VCALENDAR
