BEGIN:VCALENDAR
VERSION:2.0
PRODID:-//ChamberMaster//Event Calendar 2.0//EN
METHOD:PUBLISH
X-PUBLISHED-TTL:P3D
REFRESH-INTERVAL:P3D
CALSCALE:GREGORIAN
BEGIN:VEVENT
DTSTART:20190824T153000Z
DTEND:20190824T183000Z
X-MICROSOFT-CDO-ALLDAYEVENT:FALSE
SUMMARY:Lake Country Rotary at the Piggly Wiggly Brat Shack!
DESCRIPTION:Come and support the Lake Country Rotary at the Piggly Wiggly Brat Shack\n\nSaturday\, August 24th \n\n10:30 - 1:30\n\n\n\nThe Interact Club will also be offering a car wash in conjunction with the Barbeque\n\n\n\nClick on this link for more information:\n\nhttps://chambermaster.blob.core.windows.net/userfiles/UserFiles/chambers/522/File/RotaryGrillingatthePig2019.pdf
X-ALT-DESC;FMTTYPE=text/html:<div style="text-align: center\;"><br />\n<br />\n<span style="font-size:14px\;"><em><strong><span style="color:#0000FF\;">Come and support the Lake Country Rotary at the Piggly Wiggly Brat Shack</span></strong></em></span><br />\n<em style="font-size: 14px\; text-align: center\;"><strong><span style="color: rgb(0\, 0\, 255)\;">Saturday\, August 24th&nbsp\;<br />\n10:30 - 1:30<br />\n<br />\nThe Interact Club will also be offering a car wash in conjunction with the Barbeque</span></strong></em><br />\n<br />\n<span style="font-size:14px\;"><em><strong><u><span style="color:#FF0000\;">Click on this link for more information:</span></u><br />\n<span style="color:#0000FF\;"><a href="https://chambermaster.blob.core.windows.net/userfiles/UserFiles/chambers/522/File/RotaryGrillingatthePig2019.pdf">https://chambermaster.blob.core.windows.net/userfiles/UserFiles/chambers/522/File/RotaryGrillingatthePig2019.pdf</a></span></strong></em></span><br />\n&nbsp\;</div>\n
LOCATION:Fox Bros Piggly Wiggly 505 Cottonwood Avenue Hartland\, WI 53029
UID:e.522.138045
SEQUENCE:3
DTSTAMP:20260425T024017Z
URL:https://business.hartland-wi.org/events/details/lake-country-rotary-at-the-piggly-wiggly-brat-shack-138045
END:VEVENT

END:VCALENDAR
