BEGIN:VCALENDAR
VERSION:2.0
PRODID:-//ChamberMaster//Event Calendar 2.0//EN
METHOD:PUBLISH
X-PUBLISHED-TTL:P3D
REFRESH-INTERVAL:P3D
CALSCALE:GREGORIAN
BEGIN:VEVENT
DTSTART;VALUE=DATE:20140514
DTEND;VALUE=DATE:20140515
TRANSP:TRANSPARENT
X-MICROSOFT-CDO-ALLDAYEVENT:TRUE
SUMMARY:Lake Country Players
DESCRIPTION:LAKE COUNTRY PLAYERS PRESENTS:\n\n\n\n"Send Me No Flowers"\n\nA delightful light and laugh filled romantic comedy!\n\nDirected by Barb Christensen\n\n\n\nPerformance Dates: May 2-4\, 9-11\, 16-18\n\n\n\nSee website for performance times and tickets:\n\nwww.lakecountryplayhouse.net\n\nor call 262-36-SHOWS for more information
X-ALT-DESC;FMTTYPE=text/html:<div style="text-align: center\;"><strong>LAKE COUNTRY PLAYERS PRESENTS:</strong><br />\n<br />\n<strong><em>&quot\;Send Me No Flowers&quot\;</em></strong><br />\nA delightful light and laugh filled romantic comedy!<br />\nDirected by Barb Christensen<br />\n<br />\n<u>Performance Dates: May 2-4\, 9-11\, 16-18</u><br />\n<br />\nSee website for performance times and tickets:<br />\nwww.lakecountryplayhouse.net<br />\nor call 262-36-SHOWS for more information</div>\n<br />\n<br />\n&nbsp\;
LOCATION:Lake Country Playhouse 221 Capitol Drive Hartland\, WI 53029
UID:e.522.132869
SEQUENCE:3
DTSTAMP:20260420T123941Z
URL:https://business.hartland-wi.org/events/details/lake-country-players-05-14-2014-132869
END:VEVENT

END:VCALENDAR
