BEGIN:VCALENDAR
VERSION:2.0
PRODID:-//ChamberMaster//Event Calendar 2.0//EN
METHOD:PUBLISH
X-PUBLISHED-TTL:P3D
REFRESH-INTERVAL:P3D
CALSCALE:GREGORIAN
BEGIN:VEVENT
DTSTART:20130420T230000Z
DTEND:20130421T030000Z
X-MICROSOFT-CDO-ALLDAYEVENT:FALSE
SUMMARY:Lake Country Montessori Gala Dinner & Auction
DESCRIPTION:LCM is hosting its 11th Annual Gala Dinner and Auction at The Legends at Bristlecone Pines.  Fundraising continues to play an important role in helping our school become established in the Lake Country Community. Proceeds from this fundraiser will be used to purchase additional Montessori teaching materials for the classrooms and help us secure our own facility to insure future growth  \n\n\n\n\n\nEvent Tickets are on sale through April 3rd - $65 Per Person includes Dinner and Open Bar.  Cash\, Check or Charge Accepted.  Cocktail Attire.\n\n\n\nSponsorships still available.  Please contact LCM or Sarah Fletcher for more detail at 262.212.9475.
X-ALT-DESC;FMTTYPE=text/html:LCM is hosting its 11th Annual Gala Dinner and Auction at The Legends at Bristlecone Pines. &nbsp\;Fundraising continues to play an important role in helping our school become established in the Lake Country Community. Proceeds from this fundraiser will be used to purchase additional Montessori teaching materials for the classrooms and help us secure our own facility to insure future growth &nbsp\;<br />\n<br />\n<br />\nEvent Tickets are on sale through April 3rd - $65 Per Person includes Dinner and Open Bar. &nbsp\;Cash\, Check or Charge Accepted. &nbsp\;Cocktail Attire.<br />\n<br />\nSponsorships still available. &nbsp\;Please contact LCM or Sarah Fletcher for more detail at 262.212.9475.
LOCATION:The Legends at Bristlecone Pines
UID:e.522.132366
SEQUENCE:3
DTSTAMP:20260420T213646Z
URL:https://business.hartland-wi.org/events/details/lake-country-montessori-gala-dinner-auction-04-20-2013-132366
END:VEVENT

END:VCALENDAR
