BEGIN:VCALENDAR
VERSION:2.0
PRODID:-//ChamberMaster//Event Calendar 2.0//EN
METHOD:PUBLISH
X-PUBLISHED-TTL:P3D
REFRESH-INTERVAL:P3D
CALSCALE:GREGORIAN
BEGIN:VEVENT
DTSTART:20110718T160000Z
DTEND:20110719T010000Z
X-MICROSOFT-CDO-ALLDAYEVENT:FALSE
SUMMARY:Lake Country Masonic Golf Outing
DESCRIPTION:Lake Country Masonic Golf Outing\n\n	Monday\, July 18\, 2011\n\n	\n\n	Click Here for Detailed Information
X-ALT-DESC;FMTTYPE=text/html:<p style="text-align: center">\n	<span style="font-size: 22px"><strong>Lake Country Masonic Golf Outing<br />\n	Monday\, July 18\, 2011</strong></span><br />\n	<br />\n	<a href="http://cloud.chambermaster.com/userfiles/UserFiles/chambers/522/File/LC%20Masonic%20Golf%20Outing.pdf">Click Here for Detailed Information</a></p>\n
LOCATION:Legend at BrandyBrook Wales\, Wisconsin Just minutes from I-94 & Hwy 83
UID:e.522.131726
SEQUENCE:3
DTSTAMP:20260420T104118Z
URL:https://business.hartland-wi.org/events/details/lake-country-masonic-golf-outing-07-18-2011-131726
END:VEVENT

END:VCALENDAR
