BEGIN:VCALENDAR
VERSION:2.0
PRODID:-//ChamberMaster//Event Calendar 2.0//EN
METHOD:PUBLISH
X-PUBLISHED-TTL:P3D
REFRESH-INTERVAL:P3D
CALSCALE:GREGORIAN
BEGIN:VEVENT
DTSTART:20141101T183000Z
DTEND:20141101T193000Z
X-MICROSOFT-CDO-ALLDAYEVENT:FALSE
SUMMARY:Lake Country Children's Theater - Nate the Dragon show
DESCRIPTION:"Nate the Dragon" performed by UW-Whitewater Theatre/Dance Dept.\n\nNovember 1\, 2014  1:30 p.m.\n\n \n\nPuppets\, songs\, dragons and friendship come alive in Nate the Dragon as Nate and his friends take you on a journey to the Kingdom of Treegrass. Try as he may\, Nate the Dragon just can't seem to fit in. He doesn't look like a duck\, he doesn't quack like a duck\, nor does he act like a duck (how many ducks do you know that can breathe fire?). This touching story of anti-bullying reminds us all that even though we may be different\, we all have something to give to the world. With courage\, bravery and compassion "Nate the Dragon" teaches the valuable lesson that everyone is important.
X-ALT-DESC;FMTTYPE=text/html:<div>&quot\;Nate the Dragon&quot\; performed by UW-Whitewater Theatre/Dance Dept.</div>\n\n<div>November 1\, 2014 &nbsp\;1:30 p.m.</div>\n\n<div>&nbsp\;</div>\n\n<div>Puppets\, songs\, dragons and friendship come alive in Nate the Dragon as Nate and his friends take you on a journey to the Kingdom of Treegrass. Try as he may\, Nate the Dragon just can&rsquo\;t seem to fit in. He doesn&rsquo\;t look like a duck\, he doesn&rsquo\;t quack like a duck\, nor does he act like a duck (how many ducks do you know that can breathe fire?). This touching story of anti-bullying reminds us all that even though we may be different\, we all have something to give to the world. With courage\, bravery and compassion &ldquo\;Nate the Dragon&rdquo\; teaches the valuable lesson that everyone is important.</div>\n
LOCATION:Arrowhead High School North Campus Theater
UID:e.522.133072
SEQUENCE:3
DTSTAMP:20260421T004741Z
URL:https://business.hartland-wi.org/events/details/lake-country-children-s-theater-nate-the-dragon-show-11-01-2014-133072
END:VEVENT

END:VCALENDAR
