BEGIN:VCALENDAR
VERSION:2.0
PRODID:-//ChamberMaster//Event Calendar 2.0//EN
METHOD:PUBLISH
X-PUBLISHED-TTL:P3D
REFRESH-INTERVAL:P3D
CALSCALE:GREGORIAN
BEGIN:VEVENT
DTSTART:20150110T193000Z
DTEND:20150110T203000Z
X-MICROSOFT-CDO-ALLDAYEVENT:FALSE
SUMMARY:Lake Country Children's Theater - "Mostly Monsterly" show
DESCRIPTION:"Mostly Monsterly"\n\nby Sunset Playhouse Bug in a Rug\n\nJanuary 10\, 2015  1:30 p.m.\n\n \nTammi Sauer's magnificent children's book is brought to life in this bug in a rug original musical. Bernadette might look like your ordinary monster\, but sometimes she likes to do some very unmonsterlike things like make cards\, pick flowers\, and bake! At Monster Academy\, her classmates don't understand her. Can Bernadette make new friends and still be herself?
X-ALT-DESC;FMTTYPE=text/html:<div>&quot\;Mostly Monsterly&quot\;</div>\n\n<div>by Sunset Playhouse Bug in a Rug</div>\n\n<div>January 10\, 2015 &nbsp\;1:30 p.m.<br />\n&nbsp\;</div>\nTammi Sauer&rsquo\;s magnificent children&rsquo\;s book is brought to life in this bug in a rug original musical. Bernadette might look like your ordinary monster\, but sometimes she likes to do some very unmonsterlike things&hellip\;like make cards\, pick flowers\, and bake! At Monster Academy\, her classmates don&rsquo\;t understand her. Can Bernadette make new friends and still be herself?
LOCATION:Arrowhead High School North Campus Theater
UID:e.522.133076
SEQUENCE:3
DTSTAMP:20260421T041951Z
URL:https://business.hartland-wi.org/events/details/lake-country-children-s-theater-mostly-monsterly-show-01-10-2015-133076
END:VEVENT

END:VCALENDAR
