BEGIN:VCALENDAR
VERSION:2.0
PRODID:-//ChamberMaster//Event Calendar 2.0//EN
METHOD:PUBLISH
X-PUBLISHED-TTL:P3D
REFRESH-INTERVAL:P3D
CALSCALE:GREGORIAN
BEGIN:VEVENT
DTSTART:20150328T183000Z
DTEND:20150328T193000Z
X-MICROSOFT-CDO-ALLDAYEVENT:FALSE
SUMMARY:Lake Country Children's Theater - "Dog Loves Books"
DESCRIPTION:"Dog Loves Books"\n\nby ArtsPower National Touring Theatre\n\nMarch 28\, 2015  1:30 p.m.\n\n \n\nLouise Yates' New York Times Best Seller comes to life in ArtsPower's newest musical about the irresistable Dog who loves everything about books. In fact\, he loves books SO much that he decides to open up his own bookstore. Once the store opens for business\, no customers come. Dog is alone in his store. But\, he soon realizes that when he is surrounded by books\, he is never alone. Dog begins to read the books in his store and discovers that when customers finally come in to his store\, he knows exactly which books to recommend. ArtsPower's delightful new musical celebrates the power of the imagination and the satisfaction that comes when you share books with others.
X-ALT-DESC;FMTTYPE=text/html:<div>&quot\;Dog Loves Books&quot\;</div>\n\n<div>by ArtsPower National Touring Theatre</div>\n\n<div>March 28\, 2015 &nbsp\;1:30 p.m.</div>\n\n<div>&nbsp\;</div>\n\n<div>Louise Yates&#39\; New York Times Best Seller comes to life in ArtsPower&#39\;s newest musical about the irresistable Dog who loves everything about books. In fact\, he loves books SO much that he decides to open up his own bookstore. Once the store opens for business\, no customers come. Dog is alone in his store. But\, he soon realizes that when he is surrounded by books\, he is never alone. Dog begins to read the books in his store and discovers that when customers finally come in to his store\, he knows exactly which books to recommend. ArtsPower&#39\;s delightful new musical celebrates the power of the imagination and the satisfaction that comes when you share books with others.</div>\n
LOCATION:Arrowhead High School North Campus Theater
UID:e.522.133077
SEQUENCE:3
DTSTAMP:20260421T080647Z
URL:https://business.hartland-wi.org/events/details/lake-country-children-s-theater-dog-loves-books-03-28-2015-133077
END:VEVENT

END:VCALENDAR
