BEGIN:VCALENDAR
VERSION:2.0
PRODID:-//ChamberMaster//Event Calendar 2.0//EN
METHOD:PUBLISH
X-PUBLISHED-TTL:P3D
REFRESH-INTERVAL:P3D
CALSCALE:GREGORIAN
BEGIN:VEVENT
DTSTART;VALUE=DATE:20121105
DTEND;VALUE=DATE:20121216
TRANSP:TRANSPARENT
X-MICROSOFT-CDO-ALLDAYEVENT:TRUE
SUMMARY:Lake Country Caring Fundraiser
DESCRIPTION:Bring in one or more items for Lake Country Caring\, LLC and receive a complete chiropractic examination\, any needed x-rays and consultation for only $29.00.\n\n\n\nThey are currently in high demand for winter clothing\, coats\, boots\, etc. Help us help others through better health!
X-ALT-DESC;FMTTYPE=text/html:Bring in one or more items for Lake Country Caring\, LLC and receive a complete chiropractic examination\, any needed x-rays and consultation for only $29.00.<br />\n<br />\nThey are currently in high demand for winter clothing\, coats\, boots\, etc. Help us help others through better health!
LOCATION:Chiropractic Care Center - Hartland 864 Rose Dr. - Hartland
UID:e.522.132050
SEQUENCE:3
DTSTAMP:20260421T060637Z
URL:https://business.hartland-wi.org/events/details/lake-country-caring-fundraiser-11-05-2012-132050
END:VEVENT

END:VCALENDAR
