BEGIN:VCALENDAR
VERSION:2.0
PRODID:-//ChamberMaster//Event Calendar 2.0//EN
METHOD:PUBLISH
X-PUBLISHED-TTL:P3D
REFRESH-INTERVAL:P3D
CALSCALE:GREGORIAN
BEGIN:VEVENT
DTSTART:20110413T220000Z
DTEND:20110414T000000Z
X-MICROSOFT-CDO-ALLDAYEVENT:FALSE
SUMMARY:Ladies Night Out at Pewaukee Family Chiropractic
DESCRIPTION:Enjoy an evening out with the ladies.  Bring your friends for some wine tasting\, fat-burning coffee\, hand/face treatments\, appetizers\, chair massages\, demo of foot orthotics testing\, muscle tension evaluations.\n\n\n\nDoor prizes and more!
X-ALT-DESC;FMTTYPE=text/html:Enjoy an evening out with the ladies.  Bring your friends for some wine tasting\, fat-burning coffee\, hand/face treatments\, appetizers\, chair massages\, demo of foot orthotics testing\, muscle tension evaluations.\n<br>\n<br>Door prizes and more!
LOCATION:Pewaukee Family Chiropractic 1001 Cecelia Drive Pewaukee\, WI 53072
UID:e.522.131554
SEQUENCE:3
DTSTAMP:20260422T184827Z
URL:https://business.hartland-wi.org/events/details/ladies-night-out-at-pewaukee-family-chiropractic-04-13-2011-131554
END:VEVENT

END:VCALENDAR
