BEGIN:VCALENDAR
VERSION:2.0
PRODID:-//ChamberMaster//Event Calendar 2.0//EN
METHOD:PUBLISH
X-PUBLISHED-TTL:P3D
REFRESH-INTERVAL:P3D
CALSCALE:GREGORIAN
BEGIN:VEVENT
DTSTART:20181024T220000Z
DTEND:20181025T010000Z
X-MICROSOFT-CDO-ALLDAYEVENT:FALSE
SUMMARY:Ladies Night Out 2018 - Embracing You!
DESCRIPTION:Ladies Night Out 2018 - Embracing You!\n\nBring your mother\, daughter\, girlfriend or come alone for an evening of fun and education embracing all women.  Take a break from your hectic schedule and enjoy an evening with music\, refreshments\, chair massages and prizes.  Information tables as well as fun outside vendors for ladies will be available such as:  LuLuRoe\, Sentsy\, Thirty-One and more.  Bring your questions for our educational breakout sessions that will be provided by Aurora Medical Center health care experts on menopause\, sexual health\, nutrition\, conception and preconception.\n\nWednesday\, October 24\, 2018\n\n5 to 8 p.m.\n\nTo register\, call 262-434-4440
X-ALT-DESC;FMTTYPE=text/html:<p>Ladies Night Out 2018 - Embracing You!</p>\n\n<p>Bring your mother\, daughter\, girlfriend or come alone for an evening of fun and education embracing all women.&nbsp\; Take a break from your hectic schedule and enjoy an evening with music\, refreshments\, chair massages and prizes.&nbsp\; Information tables as well as fun outside vendors for ladies will be available such as:&nbsp\; LuLuRoe\, Sentsy\, Thirty-One and more.&nbsp\; Bring your questions for our educational breakout sessions that will be provided by Aurora Medical Center health care experts on menopause\, sexual health\, nutrition\, conception and preconception.</p>\n\n<p>Wednesday\, October 24\, 2018</p>\n\n<p>5 to 8 p.m.</p>\n\n<p>To register\, call 262-434-4440</p>\n\n<p><br />\n&nbsp\;</p>\n\n<p>&nbsp\;</p>\n\n<p>&nbsp\;</p>\n&nbsp\;\n\n<p>&nbsp\;</p>\n\n<p><span style="color:rgb(15\, 36\, 62)">&nbsp\;</span></p>\n<br />\n<br />\n&nbsp\;
LOCATION:Aurora Medical Center Summit Draper Hall 36500 Aurora Drive Summit\, WI
UID:e.522.137502
SEQUENCE:3
DTSTAMP:20260424T091147Z
URL:https://business.hartland-wi.org/events/details/ladies-night-out-2018-embracing-you-137502
END:VEVENT

END:VCALENDAR
