BEGIN:VCALENDAR
VERSION:2.0
PRODID:-//ChamberMaster//Event Calendar 2.0//EN
METHOD:PUBLISH
X-PUBLISHED-TTL:P3D
REFRESH-INTERVAL:P3D
CALSCALE:GREGORIAN
BEGIN:VEVENT
DTSTART:20170308T000000Z
DTEND:20170308T030000Z
X-MICROSOFT-CDO-ALLDAYEVENT:FALSE
SUMMARY:Ladies Night! Relax\, Shop\, and support the Make a Wish Foundation!
DESCRIPTION:Vendors will be selling all your favorite products including: Allure\, 31 bags\, Lularoe\, Rodan and Fields\, Fayes\, Stella & Dot\, Anytime Fitness\, Pampered Chef\, Norwex\, Lake Country Martial Arts\, and Lake Country Skin Care. Door Prizes will be given by all participating sponsors. All proceeds from Hartland Family Chiropractic will be donated to the make a wish foundation.
X-ALT-DESC;FMTTYPE=text/html:Vendors will be selling all your favorite products including: Allure\, 31 bags\, Lularoe\, Rodan and Fields\, Fayes\, Stella &amp\; Dot\, Anytime Fitness\, Pampered Chef\, Norwex\, Lake Country Martial Arts\, and Lake Country Skin Care. Door Prizes will be given by all participating sponsors. All proceeds from Hartland Family Chiropractic will be donated to the make a wish foundation.
LOCATION:Hartland Family Chiropractic 211 Cottonwood Ave.\, Hartland\, WI 53029
UID:e.522.133909
SEQUENCE:3
DTSTAMP:20260423T015232Z
URL:https://business.hartland-wi.org/events/details/ladies-night-133909
END:VEVENT

END:VCALENDAR
