BEGIN:VCALENDAR
VERSION:2.0
PRODID:-//ChamberMaster//Event Calendar 2.0//EN
METHOD:PUBLISH
X-PUBLISHED-TTL:P3D
REFRESH-INTERVAL:P3D
CALSCALE:GREGORIAN
BEGIN:VEVENT
DTSTART:20130130T133000Z
DTEND:20130130T143000Z
X-MICROSOFT-CDO-ALLDAYEVENT:FALSE
SUMMARY:Kudos Award Committee Meeting
DESCRIPTION:
X-ALT-DESC;FMTTYPE=text/html:
LOCATION:At the Chamber Office: 116 W. Capitol Dr.\, Hartland
UID:e.522.132324
SEQUENCE:3
DTSTAMP:20260421T042002Z
URL:https://business.hartland-wi.org/events/details/kudos-award-committee-meeting-01-30-2013-132324
END:VEVENT

END:VCALENDAR
