BEGIN:VCALENDAR
VERSION:2.0
PRODID:-//ChamberMaster//Event Calendar 2.0//EN
METHOD:PUBLISH
X-PUBLISHED-TTL:P3D
REFRESH-INTERVAL:P3D
CALSCALE:GREGORIAN
BEGIN:VEVENT
DTSTART:20180417T220000Z
DTEND:20180418T000000Z
X-MICROSOFT-CDO-ALLDAYEVENT:FALSE
SUMMARY:Know Your Numbers: High Cholesterol - Community Health Beat
DESCRIPTION:Community Health Beat\n\nKnow Your Numbers:  High Cholesterol\n\n\n\nHeart disease is the number one killer of me and women in the United States.  Each year\, more than one million Americans have heart attacks and 1/2 million die from heart disease.  The higher your cholesterol\, the greater your risk for developing heart disease or having a heart attack.  High cholesterol does not cause any symptoms\, that's why it is important to know your numbers and take control.\n\n\n\nMegan Reid\, APNP with Aurora Medical Center Summits cardiology department will help you understand what cholesterol is and provide current management technques including nutrition\, exercise and statins.\n\n\n\nRegistration is required by phoning:  888-863-5502 or contact Trish Golden at 262-434-1248
X-ALT-DESC;FMTTYPE=text/html:<div style="text-align: center\;"><strong>Community Health Beat<br />\nKnow Your Numbers:&nbsp\; High Cholesterol<br />\n<br />\nHeart disease is the number one killer of me and women in the United States.&nbsp\; Each year\, more than one million Americans have heart attacks and 1/2 million die from heart disease.&nbsp\; The higher your cholesterol\, the greater your risk for developing heart disease or having a heart attack.&nbsp\; High cholesterol does not cause any symptoms\, that&#39\;s why it is important to know your numbers and take control.<br />\n<br />\nMegan Reid\, APNP with Aurora Medical Center Summits cardiology department will help you understand what cholesterol is and provide current management technques including nutrition\, exercise and statins.<br />\n<br />\nRegistration is required by phoning:&nbsp\; 888-863-5502 or contact Trish Golden at 262-434-1248</strong><br />\n<br />\n&nbsp\;</div>\n
LOCATION:Aurora Medical Center Summit Draper Hall 36500 Aurora Drive Summit\, WI
UID:e.522.137195
SEQUENCE:3
DTSTAMP:20260423T234349Z
URL:https://business.hartland-wi.org/events/details/know-your-numbers-high-cholesterol-community-health-beat-137195
END:VEVENT

END:VCALENDAR
