BEGIN:VCALENDAR
VERSION:2.0
PRODID:-//ChamberMaster//Event Calendar 2.0//EN
METHOD:PUBLISH
X-PUBLISHED-TTL:P3D
REFRESH-INTERVAL:P3D
CALSCALE:GREGORIAN
BEGIN:VEVENT
DTSTART:20111203T220000Z
DTEND:20111204T020000Z
X-MICROSOFT-CDO-ALLDAYEVENT:FALSE
SUMMARY:Kirsten Salon Holiday Open House
DESCRIPTION:Holiday gifting ideas\, Pure Priviledge enrollment & double points\, gift wrapping station\, mini service stations\, enjoy appetisers and wine!!!
X-ALT-DESC;FMTTYPE=text/html:Holiday gifting ideas\, Pure Priviledge enrollment &amp\; double points\, gift wrapping station\, mini service stations\, enjoy appetisers and wine!!! 
LOCATION:Kirsten Salon 151 E Capitol Drive\, downtown Hartland
UID:e.522.131778
SEQUENCE:3
DTSTAMP:20260422T005931Z
URL:https://business.hartland-wi.org/events/details/kirsten-salon-holiday-open-house-12-03-2011-131778
END:VEVENT

END:VCALENDAR
