BEGIN:VCALENDAR
VERSION:2.0
PRODID:-//ChamberMaster//Event Calendar 2.0//EN
METHOD:PUBLISH
X-PUBLISHED-TTL:P3D
REFRESH-INTERVAL:P3D
CALSCALE:GREGORIAN
BEGIN:VEVENT
DTSTART:20150318T180000Z
DTEND:20150318T200000Z
X-MICROSOFT-CDO-ALLDAYEVENT:FALSE
SUMMARY:Kids Open Studio
DESCRIPTION:Choose to fuse glass\, glaze pre-made sculpture or wheel thrown pottery\, or create a small figure in clay.\n\nOn any Early school release Wednesday\, 1pm - 3pm let your children to explore different art mediums to create beautiful memories and projects to bring home or to share with loved ones.  Each project is $10.00.
X-ALT-DESC;FMTTYPE=text/html:<span style="font-size: 12px\;"><span style="font-family: comic sans ms\;">Choose to fuse glass\, glaze pre-made sculpture or wheel thrown pottery\, or create a small figure in clay.<br />\nOn any Early school release Wednesday\, 1pm - 3pm let your children to explore different art mediums to create beautiful memories and projects to bring home or to share with loved ones. &nbsp\;Each project is $10.00.&nbsp\;</span></span>
LOCATION:Lake Country Fine Arts School and Gallery 112 W. Capitol Drive Hartland\, WI 53029
UID:e.522.133139
SEQUENCE:3
DTSTAMP:20260421T075136Z
URL:https://business.hartland-wi.org/events/details/kids-open-studio-03-18-2015-133139
END:VEVENT

END:VCALENDAR
