BEGIN:VCALENDAR
VERSION:2.0
PRODID:-//ChamberMaster//Event Calendar 2.0//EN
METHOD:PUBLISH
X-PUBLISHED-TTL:P3D
REFRESH-INTERVAL:P3D
CALSCALE:GREGORIAN
BEGIN:VEVENT
DTSTART:20130425T213000Z
DTEND:20130425T233000Z
X-MICROSOFT-CDO-ALLDAYEVENT:FALSE
SUMMARY:Kettle Moraine United Presbyterian Church
DESCRIPTION:Kettle Moraine United Presbyterian Church (KMUPC) will be co-hosting a community meal with Lake Country Unitarian Church on Thursday\, April 25th. The meal is served at St. Anskar's on Hwy. 83. Volunteering to help at this meal is a rewarding way to serve those in your community and a great way to meet new friends! Please consider joining KMUPC members at 4:30 on April 25th. Contact Emil Weatherbee at emillisa@att.net for additional details.
X-ALT-DESC;FMTTYPE=text/html:<p>\n	<span style="font-family: &quot\;Arial&quot\;\,&quot\;sans-serif&quot\;\; font-size: 10pt\; mso-fareast-font-family: &quot\;Times New Roman&quot\;\; mso-ansi-language: EN-US\; mso-fareast-language: EN-US\; mso-bidi-language: AR-SA\;"><font color="#000000"><em>Kettle Moraine United Presbyterian Church (KMUPC) will be co-hosting a community meal with Lake Country Unitarian Church on Thursday\, April 25th. The meal is served at St. Anskar&#39\;s on Hwy. 83. Volunteering to help at this meal is a rewarding way to serve those in your community and a great way to meet new friends! Please consider joining KMUPC members at 4:30 on April 25th. Contact Emil Weatherbee at&nbsp\;<a href="mailto:emillisa@att.net">emillisa@att.net</a> for additional details.</em></font></span></p>\n
LOCATION:St. Anskar's on Hwy. 83
UID:e.522.132371
SEQUENCE:3
DTSTAMP:20260420T232226Z
URL:https://business.hartland-wi.org/events/details/kettle-moraine-united-presbyterian-church-04-25-2013-132371
END:VEVENT

END:VCALENDAR
