BEGIN:VCALENDAR
VERSION:2.0
PRODID:-//ChamberMaster//Event Calendar 2.0//EN
METHOD:PUBLISH
X-PUBLISHED-TTL:P3D
REFRESH-INTERVAL:P3D
CALSCALE:GREGORIAN
BEGIN:VEVENT
DTSTART:20181002T130000Z
DTEND:20181002T150000Z
X-MICROSOFT-CDO-ALLDAYEVENT:FALSE
SUMMARY:Keeping Seniors Safe: Medications & Supplemens: Summit Senior Breakfast Club
DESCRIPTION:Summit Senior Breakfast Club\n\nKeeping Seniors Safe:  Medications & Supplements\n\nManaging medications can be challenging for seniors.  With 87% of seniors taking at least one prescription drug according to the CDC and many taking over five of them it's important to become educated on the potential risks involved in how medications interrelate with vitamins and minerals\, and even with certain types of foods.  Medicines are used to treat disease\, manage conditions\, and relieve symptoms.  Medicines are generally safe when used as prescribed or directed on the label.  Join Elizabeth Yun\, Internal Medicine Physician\, and arm yourself with information to keep safe.\n\n\n\nRegistration is required by phoning:  888-863-5502 or contact Trish Golden at 262-434-1248
X-ALT-DESC;FMTTYPE=text/html:<div style="text-align: center\;"><strong>Summit Senior Breakfast Club<br />\nKeeping Seniors Safe:&nbsp\; Medications &amp\; Supplements<br />\nManaging medications can be challenging for seniors.&nbsp\; With 87% of seniors taking at least one prescription drug according to the CDC and many taking over five of them it&#39\;s important to become educated on the potential risks involved in how medications interrelate with vitamins and minerals\, and even with certain types of foods.&nbsp\; Medicines are used to treat disease\, manage conditions\, and relieve symptoms.&nbsp\; Medicines are generally safe when used as prescribed or directed on the label.&nbsp\; Join Elizabeth Yun\, Internal Medicine Physician\, and arm yourself with information to keep safe.<br />\n<br />\nRegistration is required by phoning:&nbsp\; 888-863-5502 or contact Trish Golden at 262-434-1248</strong><br />\n&nbsp\;</div>\n
LOCATION:Aurora Medical Center Summit Draper Hall 36500 Aurora Drive Summit\, WI
UID:e.522.137474
SEQUENCE:3
DTSTAMP:20260424T091410Z
URL:https://business.hartland-wi.org/events/details/keeping-seniors-safe-medications-supplemens-summit-senior-breakfast-club-137474
END:VEVENT

END:VCALENDAR
