BEGIN:VCALENDAR
VERSION:2.0
PRODID:-//ChamberMaster//Event Calendar 2.0//EN
METHOD:PUBLISH
X-PUBLISHED-TTL:P3D
REFRESH-INTERVAL:P3D
CALSCALE:GREGORIAN
BEGIN:VEVENT
DTSTART:20181121T230000Z
DTEND:20181122T000000Z
X-MICROSOFT-CDO-ALLDAYEVENT:FALSE
SUMMARY:Junior Chef's Club (ages 7 to 12 years old only)
DESCRIPTION:Junior Chef's Club\n\n(ages 7 to 12 years only)\n\nWhat are the Advantages of Involving Kids in the Kitchen?\n\nGetting involved in cooking helps your child to develop fine motor skilss\, eye hand coordination\, and early concepts of math and science.  The benefit of learning helps with nutrition and picky eaters.  Involving kids in the kitchen is a great opportunity for them to learn about healthy and unhealthy foods.  Very often when people learn good habits such as these at a youg age\, they tend to carry these values with them well into adulthood.  Learn etiquette\, manners\, measuring and learn how to chop and use a blender.  All recipes are healthy.\n\n\n\nRegistration is required for each class!  Space is limited!\n\nTo register call 888-863-5502 or contact Trish Golden at 262-434-1248
X-ALT-DESC;FMTTYPE=text/html:<strong>Junior Chef&#39\;s Club<br />\n(ages 7 to 12 years only)<br />\nWhat are the Advantages of Involving Kids in the Kitchen?<br />\nGetting involved in cooking helps your child to develop fine motor skilss\, eye hand coordination\, and early concepts of math and science.&nbsp\; The benefit of learning helps with nutrition and picky eaters.&nbsp\; Involving kids in the kitchen is a great opportunity for them to learn about healthy and unhealthy foods.&nbsp\; Very often when people learn good habits such as these at a youg age\, they tend to carry these values with them well into adulthood.&nbsp\; Learn etiquette\, manners\, measuring and learn how to chop and use a blender.&nbsp\; All recipes are healthy.<br />\n<br />\nRegistration is required for each class!&nbsp\; Space is limited!<br />\nTo register call 888-863-5502 or contact Trish Golden at 262-434-1248</strong>
LOCATION:Aurora Medical Center Summit Cafe 36500 Aurora Drive Summit\, WI
UID:e.522.137486
SEQUENCE:3
DTSTAMP:20260424T103242Z
URL:https://business.hartland-wi.org/events/details/junior-chef-s-club-ages-7-to-12-years-old-only-137486
END:VEVENT

END:VCALENDAR
