BEGIN:VCALENDAR
VERSION:2.0
PRODID:-//ChamberMaster//Event Calendar 2.0//EN
METHOD:PUBLISH
X-PUBLISHED-TTL:P3D
REFRESH-INTERVAL:P3D
CALSCALE:GREGORIAN
BEGIN:VEVENT
DTSTART:20111014T223000Z
DTEND:20111015T050000Z
X-MICROSOFT-CDO-ALLDAYEVENT:FALSE
SUMMARY:Jeans & Jewels - Primary Hartland-Lakeside Education Foundation Fundraiser
DESCRIPTION:HLEF's Jeans and Jewels Benefit including Dinner with Live Band\n\n	\n\n	 All community members are invited to attend the Hartland-Lakeside Education Foundation (HLEF) Jeans & Jewels Benefit on Friday\, Oct. 14th at the Country Springs Hotel.\n\n	\n\n	Tickets are $70 per adult and includes dinner (choice of fish or meat or veggie)\, raffles\, silent & live auctions\, and the band 'Screamin' Cucumbers' guaranteed to be a fun night socializing with Hartland-Lakeside community members!  For tickets\, contact Melissa Reiser\, Jeans and Jewels event coordinator\, at foundation@hartlake.org.\n\n	\n\n	Advertising/Sponsorship Opportunities are still available to local businesses!\n\n	\n\n	This is a great opportunity to get your business name in front of the Hartland-Lakeside community and to support the children of Hartland-Lakeside.  Don't wait - space is limited!  Contact Melissa Reiser\, Jeans and Jewels event coordinator\, at foundation@hartlake.org.\n\n	\n\n	\n\n	About HLEF\n\n	The Hartland-Lakeside Education Foundation (HLEF) exists to provide financial support to the Hartland-Lakeside School District through fundraising activities as well as acting as a public relations liaison between the district and the community. The goal is to provide supplementary means to meet and exceed the educational goals through fundraising and donations from parents\, alumni and the community at large. The HLEF collaborates with the district and it funds PTO activities and events. The HLEF is a non-profit organization accepting tax deductible donations and company matching gifts to maintain academic excellence in the Hartland-Lakeside schools within the Hartland\, WI community.\n\n	 \n\n	          Helping to bring our kids SMART Boards\, heart defibrillators\, microphones\, playground equipment & more!\n\n	          Visit our NEW website www.hartlakefoundation.com & "like" us on Facebook!\n\n	          Supporting Hartland North\, Hartland South\, North Shore Middle School\, Hartland School of Community Learning Charter\, & LIFE Charter
X-ALT-DESC;FMTTYPE=text/html:<p class="MsoNormal" style="line-height: normal\; margin: 0in 0in 0pt">\n	<strong><em><span><font color="#000000">HLEF&#39\;s Jeans and Jewels Benefit including Dinner with Live Band</font></span></em></strong><br />\n	<br />\n	<span style="font-family: 'arial'\, 'sans-serif'\; font-size: 10pt\; mso-fareast-font-family: 'times new roman'"><font color="#000000"><span _fck_bookmark="1" style="display: none">&nbsp\;</span><span style="line-height: 115%\; font-family: 'arial'\, 'sans-serif'\; font-size: 10pt\; mso-fareast-font-family: 'times new roman'\; mso-ansi-language: en-us\; mso-fareast-language: en-us\; mso-bidi-language: ar-sa">All community members are invited to attend the Hartland-Lakeside Education Foundation (HLEF) Jeans &amp\; Jewels Benefit on Friday\, Oct. 14th at the Country Springs Hotel.<br />\n	<br />\n	Tickets are $70 per adult </span><span style="line-height: 115%\; font-family: 'arial'\, 'sans-serif'\; color: #2a2a2a\; font-size: 10pt\; mso-fareast-font-family: calibri\; mso-ansi-language: en-us\; mso-fareast-language: en-us\; mso-bidi-language: ar-sa\; mso-fareast-theme-font: minor-latin">and includes dinner (choice of fish or meat or veggie)\, raffles\, silent &amp\; live auctions\, and the band &#39\;Screamin&rsquo\; Cucumbers&#39\;&hellip\;guaranteed to be a fun night socializing with Hartland-Lakeside community members!&nbsp\; </span><span style="line-height: 115%\; font-family: 'arial'\, 'sans-serif'\; font-size: 10pt\; mso-fareast-font-family: 'times new roman'\; mso-ansi-language: en-us\; mso-fareast-language: en-us\; mso-bidi-language: ar-sa">For tickets\, contact Melissa Reiser\,&nbsp\;Jeans and Jewels&nbsp\;event coordinator\, at <a href="mailto:foundation@hartlake.org"><span style="color: blue">foundation@hartlake.org</span></a>.</span></font></span><br style="mso-special-character: line-break" />\n	<br style="mso-special-character: line-break" />\n	<strong><em><span><font color="#000000">Advertising/Sponsorship Opportunities are still available to local businesses!</font></span></em></strong><br />\n	<br />\n	<span style="font-family: 'arial'\, 'sans-serif'\; color: #2a2a2a\; font-size: 10pt"><span style="line-height: 115%\; font-family: 'arial'\, 'sans-serif'\; color: #2a2a2a\; font-size: 10pt\; mso-fareast-font-family: calibri\; mso-ansi-language: en-us\; mso-fareast-language: en-us\; mso-bidi-language: ar-sa\; mso-fareast-theme-font: minor-latin">This is a great opportunity to get your business name in front of the Hartland-Lakeside community and to support the children of Hartland-Lakeside.&nbsp\; Don&#39\;t wait - space is limited!&nbsp\; Contact Melissa Reiser\,&nbsp\;Jeans and Jewels&nbsp\;event coordinator\, at <a href="mailto:foundation@hartlake.org"><span style="line-height: 115%\; color: blue\; mso-bidi-font-size: 11.0pt">foundation@hartlake.org</span></a>.</span></span><br style="mso-special-character: line-break" />\n	<br style="mso-special-character: line-break" />\n	<br />\n	<span style="font-family: 'arial'\, 'sans-serif'\; font-size: 8pt\; mso-fareast-font-family: 'times new roman'"><font color="#000000"><strong><em>About HLEF</em></strong></font></span></p>\n<p class="MsoNormal" style="line-height: normal\; margin: 0in 0in 0pt">\n	<em><strong><span style="font-family: 'arial'\, 'sans-serif'\; font-size: 8pt\; mso-fareast-font-family: 'times new roman'"><font color="#000000">The Hartland-Lakeside Education Foundation (HLEF) exists to provide financial support to the Hartland-Lakeside School District through fundraising activities as well as acting as a public relations liaison between the district and the community. The goal is to provide supplementary means to meet and exceed the educational goals through fundraising and donations from parents\, alumni and the community at large. The HLEF collaborates with the district and it funds PTO activities and events. The HLEF is a non-profit organization accepting tax deductible donations and company matching gifts to maintain academic excellence in the Hartland-Lakeside schools within the Hartland\, WI community.</font></span></strong></em></p>\n<p class="MsoNormal" style="line-height: normal\; margin: 0in 0in 10pt">\n	<em><strong><span style="font-family: 'arial'\, 'sans-serif'\; color: #2a2a2a\; font-size: 8pt">&nbsp\;</span></strong></em></p>\n<p class="MsoListParagraphCxSpFirst" style="line-height: normal\; text-indent: -0.25in\; margin: 0in 0in 0pt 0.5in\; mso-list: l0 level1 lfo1">\n	<em><strong><span style="font-family: symbol\; font-size: 12pt\; mso-fareast-font-family: symbol\; mso-bidi-font-family: symbol"><span style="mso-list: ignore"><font color="#000000">&middot\;<span style="font: 7pt 'times new roman'">&nbsp\;&nbsp\;&nbsp\;&nbsp\;&nbsp\;&nbsp\;&nbsp\;&nbsp\; </span></font></span></span><span style="font-family: 'arial'\, 'sans-serif'\; color: #2a2a2a\; font-size: 8pt">Helping to bring&nbsp\;our kids SMART Boards\, heart defibrillators\, microphones\, playground equipment&nbsp\;&amp\; more!</span></strong></em></p>\n<p class="MsoListParagraphCxSpMiddle" style="line-height: normal\; text-indent: -0.25in\; margin: 0in 0in 0pt 0.5in\; mso-list: l0 level1 lfo1">\n	<em><strong><font color="#000000"><span style="font-family: symbol\; font-size: 12pt\; mso-fareast-font-family: symbol\; mso-bidi-font-family: symbol"><span style="mso-list: ignore">&middot\;<span style="font: 7pt 'times new roman'">&nbsp\;&nbsp\;&nbsp\;&nbsp\;&nbsp\;&nbsp\;&nbsp\;&nbsp\; </span></span></span><span style="font-family: 'arial'\, 'sans-serif'\; color: black\; font-size: 8pt\; mso-bidi-font-size: 11.0pt\; mso-bidi-font-weight: bold">Visit our NEW website www.hartlakefoundation.com &amp\; &ldquo\;like&rdquo\; us on Facebook!</span></font></strong></em></p>\n<p class="MsoListParagraphCxSpLast" style="line-height: normal\; text-indent: -0.25in\; margin: 0in 0in 10pt 0.5in\; mso-list: l0 level1 lfo1">\n	<em><strong><font color="#000000"><span style="font-family: symbol\; font-size: 12pt\; mso-fareast-font-family: symbol\; mso-bidi-font-family: symbol"><span style="mso-list: ignore">&middot\;<span style="font: 7pt 'times new roman'">&nbsp\;&nbsp\;&nbsp\;&nbsp\;&nbsp\;&nbsp\;&nbsp\;&nbsp\; </span></span></span><span style="font-family: 'arial'\, 'sans-serif'\; color: black\; font-size: 8pt\; mso-bidi-font-weight: bold">Supporting Hartland North\, Hartland South\, North Shore Middle School\, Hartland School of Community Learning Charter\, &amp\; LIFE Charter</span></font></strong></em></p>\n
LOCATION:Country Springs Hotel
UID:e.522.131764
SEQUENCE:3
DTSTAMP:20260422T042517Z
URL:https://business.hartland-wi.org/events/details/jeans-jewels-primary-hartland-lakeside-education-foundation-fundraiser-10-14-2011-131764
END:VEVENT

END:VCALENDAR
