BEGIN:VCALENDAR
VERSION:2.0
PRODID:-//ChamberMaster//Event Calendar 2.0//EN
METHOD:PUBLISH
X-PUBLISHED-TTL:P3D
REFRESH-INTERVAL:P3D
CALSCALE:GREGORIAN
BEGIN:VEVENT
DTSTART:20120722T003000Z
DTEND:20120722T023000Z
X-MICROSOFT-CDO-ALLDAYEVENT:FALSE
SUMMARY:Irish Music & Dance at SummerStage of Delafield
DESCRIPTION:Join us for a celebration of Irish music and dance. Great Irish step dancing\, driving traditional music by great Irish bands will provide a summer evening of music for all ages at our beautiful outdoor setting.
X-ALT-DESC;FMTTYPE=text/html:Join us for a celebration of Irish music and dance. Great Irish step dancing\, driving traditional music by great Irish bands will provide a summer evening of music for all ages at our beautiful outdoor setting.
LOCATION:SummerStage at Lapham Peak State Park
UID:e.522.131950
SEQUENCE:3
DTSTAMP:20260421T143810Z
URL:https://business.hartland-wi.org/events/details/irish-music-dance-at-summerstage-of-delafield-07-21-2012-131950
END:VEVENT

END:VCALENDAR
