BEGIN:VCALENDAR
VERSION:2.0
PRODID:-//ChamberMaster//Event Calendar 2.0//EN
METHOD:PUBLISH
X-PUBLISHED-TTL:P3D
REFRESH-INTERVAL:P3D
CALSCALE:GREGORIAN
BEGIN:VEVENT
DTSTART:20160802T160000Z
DTEND:20160802T180000Z
X-MICROSOFT-CDO-ALLDAYEVENT:FALSE
SUMMARY:Identity Theft Seminar
DESCRIPTION:IDENTITY THEFT SEMINAR\n\nWhen Bad Things Happen To Your Good Name\n\n\n\nGuest Speaker : Katina Griffith with LegalShield\n\n\n\nAs one of the fastest growing crimes in America\, identity theft affects businesses and individuals of all ages and incomes.  Join in a discussion about the latest threats\, identity protection practices and learn how someone might be using your good name.\n\n\n\nWhat Is Identity Theft?\n\nWho Is Affected?\n\nWho Uses Your Information?\n\nHow Is Your Information Compromised and Used?\n\nData Breaches\n\nMonitoring Services vs. Restoration\n\nPrevention
X-ALT-DESC;FMTTYPE=text/html:<p style="text-align: center\;"><span style="font-size:16px\;"><strong>IDENTITY THEFT SEMINAR</strong></span><br />\n<strong>When Bad Things Happen To Your Good Name<br />\n<br style="color: rgb(51\, 51\, 51)\; font-family: sans-serif\, Arial\, Verdana\, &quot\;Trebuchet MS&quot\;\; font-size: 13px\; line-height: 20.8px\; background-color: rgb(255\, 255\, 255)\;" />\n<span style="color: rgb(51\, 51\, 51)\; font-family: sans-serif\, Arial\, Verdana\, &quot\;Trebuchet MS&quot\;\; font-size: 13px\; line-height: 20.8px\; background-color: rgb(255\, 255\, 255)\;">Guest Speaker : Katina Griffith with&nbsp\;</span>LegalShield</strong><br />\n<br />\nAs one of the fastest growing crimes in America\, identity theft affects businesses and individuals of all ages and incomes. &nbsp\;Join in a discussion about the latest threats\, identity protection practices and learn how someone might be using your good name.<br />\n<br />\nWhat Is Identity Theft?<br />\nWho Is Affected?<br />\nWho Uses Your Information?<br />\nHow Is Your Information Compromised and Used?<br />\nData Breaches<br />\nMonitoring Services vs. Restoration<br />\nPrevention</p>\n
LOCATION:Held at Hartland Fire Department Community Room 150 Lawn Street Hartland\, WI 53029
UID:e.522.133806
SEQUENCE:3
DTSTAMP:20260422T131321Z
URL:https://business.hartland-wi.org/events/details/identity-theft-seminar-08-02-2016-133806
END:VEVENT

END:VCALENDAR
