BEGIN:VCALENDAR
VERSION:2.0
PRODID:-//ChamberMaster//Event Calendar 2.0//EN
METHOD:PUBLISH
X-PUBLISHED-TTL:P3D
REFRESH-INTERVAL:P3D
CALSCALE:GREGORIAN
BEGIN:VEVENT
DTSTART:20190925T163000Z
DTEND:20190925T180000Z
X-MICROSOFT-CDO-ALLDAYEVENT:FALSE
SUMMARY:"Hungry for Knowledge" - Lunchtime Education Series
DESCRIPTION:The Hartland Chamber of Commerce offers an educational opportunity presented by:\n\n\n\nThe Hartland Chamber of Commerce\n\nChamber 101\n\na.k.a.\n\n"I paid my Hartland Chamber dues\, so now what?"\n\n\n\n Presented by Jackie Perrigo\, Hartland Chamber Assistant. \n\nLearn how to utilize your chamber membership to enhance your business by networking\; attending/hosting educational seminars\; sharing events\, job openings & hot deals and so much more!  Jackie will also share information on using the new MemberPlus mobile app so you can stay "in the know" while you are out of the office.\n\n \n\n\n\n\n\n$20/Chamber Member\n\n(Box lunch provided)
X-ALT-DESC;FMTTYPE=text/html:<div style="text-align: center\;"><span style="color: rgb(0\, 0\, 205)\; text-align: center\;">The Hartland Chamber of Commerce offers an educational opportunity presented by:</span><br />\n<br />\n<strong><font color="#ff0000"><span style="font-size: 20px\;"><i>The Hartland Chamber of Commerce</i></span></font><br />\n<span style="font-size:14px\;"><span style="color:#0000FF\;">Chamber 101<br />\na.k.a.<br />\n<em>&quot\;I paid my Hartland Chamber dues\, so now what?&quot\;</em></span></span></strong><br />\n<br />\n<em><span style="font-size:14px\;"><span style="color:#0000FF\;">&nbsp\;P</span></span><span style="color:#0000FF\;"><span style="font-family: Roboto\, sans-serif\; font-size: 13.3333px\; font-weight: 700\;">resented by Jackie Perrigo\, Hartland Chamber Assistant.&nbsp\;<br />\nLearn how to utilize your chamber membership to enhance your business by&nbsp\;networking\;&nbsp\;attending/hosting educational seminars\;&nbsp\;sharing&nbsp\;events\, job openings &amp\;&nbsp\;hot deals and so much more!&nbsp\; Jackie will also share information on using&nbsp\;the new MemberPlus mobile app so you can stay &quot\;in the know&quot\; while you are out of the office.</span></span><br />\n<span style="font-size:14px\;"><span style="color:#0000FF\;">&#8203\;</span></span></em><br />\n<br />\n<br />\n<strong><span style="color:#0000FF\;">$20/Chamber Member</span></strong></div>\n\n<div style="text-align: center\;"><strong><span style="color: rgb(0\, 0\, 255)\;">(Bo</span></strong><strong><span style="color:#0000FF\;">x lunch provided)</span></strong></div>\n
LOCATION:Hartland Fire Department Community Room 150 Lawn Street Hartland\, WI 53029
UID:e.522.137623
SEQUENCE:3
DTSTAMP:20260425T042238Z
URL:https://business.hartland-wi.org/events/details/hungry-for-knowledge-lunchtime-education-series-137623
END:VEVENT

END:VCALENDAR
