BEGIN:VCALENDAR
VERSION:2.0
PRODID:-//ChamberMaster//Event Calendar 2.0//EN
METHOD:PUBLISH
X-PUBLISHED-TTL:P3D
REFRESH-INTERVAL:P3D
CALSCALE:GREGORIAN
BEGIN:VEVENT
DTSTART:20190626T163000Z
DTEND:20190626T180000Z
X-MICROSOFT-CDO-ALLDAYEVENT:FALSE
SUMMARY:"Hungry for Knowledge" - Lunchtime Education Series
DESCRIPTION:The Hartland Chamber of Commerce offers an educational opportunity presented by:\n\n\n\nWaukesha County Center for Growth\n\nAdvancing business.  Growing Communities.\n\n \n\nThe workshop is open to the public\n\n\n\nWaukesha County is a premier place to locate\, conduct and grow business.  The Waukesha County Center for Growth is Waukesha County's economic development organization.  We work to ensure each organization doing business in Waukesha County will reach its fullest potential and we want to help your business grow.\n\n\n\nTim Casey\, Director of Economic Development and Lucy Waldhuetter\, Business Consultant\, will present the Who\, What\, When\, Where\, Why and How of the Waukesha County Center For Growth.\n\n\n\n$20/Chamber Member\n\n$25/Non-Member\n\n(Box lunch provided)
X-ALT-DESC;FMTTYPE=text/html:<div style="text-align: center\;"><span style="color: rgb(0\, 0\, 205)\; text-align: center\;">The Hartland Chamber of Commerce offers an educational opportunity presented by:</span><br />\n<br />\n<strong><font color="#ff0000"><span style="font-size: 20px\;"><i><u>Waukesha County Center for Growth</u></i></span></font></strong></div>\n\n<h5 style="text-align: center\;"><strong><span style="color:#0000FF\;"><span style="font-size:16px\;"><i>Advancing business.&nbsp\; Growing Communities.</i></span></span></strong><br />\n<strong><span style="color:#0000FF\;">&#8203\;</span><br />\n<em><span style="color:#FF0000\;">The workshop is open to the public<br />\n<br />\nWaukesha County is a premier place to locate\, conduct and grow business.&nbsp\; The Waukesha County Center for Growth is Waukesha County&#39\;s economic development organization.&nbsp\; We work to ensure each organization doing business in Waukesha County will reach its fullest potential and we want to help your business grow.<br />\n<br />\nTim Casey\, Director of Economic Development and Lucy Waldhuetter\, Business Consultant\, will present the Who\, What\, When\, Where\, Why and How of the Waukesha County Center For Growth.</span></em><br />\n<br />\n<span style="color:#0000FF\;">$20/Chamber Member<br />\n$25/Non-Member<br />\n(Box lunch provided)</span></strong></h5>\n
LOCATION:Fire Department Community Room 150 Lawn Street Hartland\, WI 53029
UID:e.522.137622
SEQUENCE:3
DTSTAMP:20260424T231302Z
URL:https://business.hartland-wi.org/events/details/hungry-for-knowledge-lunchtime-education-series-137622
END:VEVENT

END:VCALENDAR
