BEGIN:VCALENDAR
VERSION:2.0
PRODID:-//ChamberMaster//Event Calendar 2.0//EN
METHOD:PUBLISH
X-PUBLISHED-TTL:P3D
REFRESH-INTERVAL:P3D
CALSCALE:GREGORIAN
BEGIN:VEVENT
DTSTART:20190327T163000Z
DTEND:20190327T180000Z
X-MICROSOFT-CDO-ALLDAYEVENT:FALSE
SUMMARY:"Hungry for Knowledge" - Lunchtime Education Series
DESCRIPTION:The Hartland Chamber of Commerce offers an educational opportunity:\n\n\n\nCITIZENS RESPONSE TO ACTIVE ASSAILANT TRAINING\n\nPresented by Office Mueller of the Hartland Police Department\n\n\n\nIn a world of increasing violence and unpredictability\,\n\nit is best to be prepared for anything. \n\nRun\, Hide\, Fight protocol\,\n\nthe measures you should take in case of an active shooter situation.\n\n \n\n\n\nThe workshop is open to the public\n\n\n\n$20/Chamber Member\n\n$25/Non-Member\n\n(Box lunch provided)
X-ALT-DESC;FMTTYPE=text/html:<div style="text-align: center\;"><span style="color: rgb(0\, 0\, 205)\; text-align: center\;">The Hartland Chamber of Commerce offers an educational opportunity:</span><br />\n<br />\n<strong><span style="font-size:20px\;"><em><span style="color:#FF0000\;">CITIZENS RESPONSE TO ACTIVE ASSAILANT TRAINING<br />\nPresented by Office Mueller of the Hartland Police Department</span></em><br />\n<br />\n<span style="color:#0000FF\;"><span style="font-size:16px\;">In a world of increasing violence and unpredictability\,<br />\nit is best to be prepared for anything.&nbsp\;<br />\nRun\, Hide\, Fight protocol\,<br />\nthe measures you should take in case of an active shooter situation.</span></span></span><br />\n<span style="color:#0000FF\;">&#8203\;</span><br />\n<br />\n<em><span style="color:#FF0000\;">The workshop is open to the public</span></em><br />\n<br />\n<span style="color:#0000FF\;">$20/Chamber Member<br />\n$25/Non-Member<br />\n(Box lunch provided)</span></strong></div>\n
LOCATION:Hartland Fire Department Community Room 150 Lawn Street Hartland\, WI 53029
UID:e.522.137621
SEQUENCE:3
DTSTAMP:20260424T174528Z
URL:https://business.hartland-wi.org/events/details/hungry-for-knowledge-lunchtime-education-series-137621
END:VEVENT

END:VCALENDAR
