BEGIN:VCALENDAR
VERSION:2.0
PRODID:-//ChamberMaster//Event Calendar 2.0//EN
METHOD:PUBLISH
X-PUBLISHED-TTL:P3D
REFRESH-INTERVAL:P3D
CALSCALE:GREGORIAN
BEGIN:VEVENT
DTSTART:20140201T180000Z
DTEND:20140201T183000Z
X-MICROSOFT-CDO-ALLDAYEVENT:FALSE
SUMMARY:How to Stay Young the First 100 Years
DESCRIPTION:Dr. Joshua Fritz of Lake Country Chiropractic will be presenting "How to Stay Young the First 100 Years." Our average life span is nearly at 80 years old! Learn how chiropractic care can help you stay healthy and mobile for all 80 of those years! Spinal disability is now the leading cause of disability of the elderly. Don't let your body wear out before it needs to. Lunch will be provided for those that register in advance. Call 262-367-4523 to register!
X-ALT-DESC;FMTTYPE=text/html:Dr. Joshua Fritz of Lake Country Chiropractic will be presenting &quot\;How to Stay Young the First 100 Years.&quot\; Our average life span is nearly at 80 years old! Learn how chiropractic care can help you stay healthy and mobile for all 80 of those years! Spinal disability is now the leading cause of disability of the elderly. Don&#39\;t let your body wear out before it needs to. Lunch will be provided for those that register in advance. Call 262-367-4523 to register!
LOCATION:Lake Country Chiropractic 864 Rose Dr Hartland
UID:e.522.132791
SEQUENCE:3
DTSTAMP:20260420T181550Z
URL:https://business.hartland-wi.org/events/details/how-to-stay-young-the-first-100-years-02-01-2014-132791
END:VEVENT

END:VCALENDAR
