BEGIN:VCALENDAR
VERSION:2.0
PRODID:-//ChamberMaster//Event Calendar 2.0//EN
METHOD:PUBLISH
X-PUBLISHED-TTL:P3D
REFRESH-INTERVAL:P3D
CALSCALE:GREGORIAN
BEGIN:VEVENT
DTSTART:20190319T220000Z
DTEND:20190320T000000Z
X-MICROSOFT-CDO-ALLDAYEVENT:FALSE
SUMMARY:How to Live Alone Without Being Lonely
DESCRIPTION:How to Live Alone Without Being Lonely\n\n\n\nThey are known as singles\, singletons\, the never married\, the divorced and the widowed.  What they share is that they are part of the country's fastest growing living unit - more than 31 million one person households in 2010\, according to the U.S. Census.  As we age\, many of us start to worry about living alone and what it will look like.  Who'll help if I become ill?  Whait if I feel lonely and isolated?  We worry about maintaining social connections if we lose mobility.  Join Karen Fischer\, psychotherapist and learn about loneliness and helpful tips and how to maintain a happy and healthy lifestyle.\n\n\n\nRegistration is required by phoning:  888-863-5502 or contact Trish Golden at 262-434-1248
X-ALT-DESC;FMTTYPE=text/html:<div style="text-align: center\;"><strong>How to Live Alone Without Being Lonely<br />\n<br />\nThey are known as singles\, singletons\, the never married\, the divorced and the widowed.&nbsp\; What they share is that they are part of the country&#39\;s fastest growing living unit - more than 31 million one person households in 2010\, according to the U.S. Census.&nbsp\; As we age\, many of us start to worry about living alone and what it will look like.&nbsp\; Who&#39\;ll help if I become ill?&nbsp\; Whait if I feel lonely and isolated?&nbsp\; We worry about maintaining social connections if we lose mobility.&nbsp\; Join Karen Fischer\, psychotherapist and learn about loneliness and helpful tips and how to maintain a happy and healthy lifestyle.<br />\n<br />\nRegistration is required by phoning:&nbsp\; 888-863-5502 or contact Trish Golden at 262-434-1248</strong><br />\n&nbsp\;</div>\n
LOCATION:Aurora Medical Center Summit Draper Hall
UID:e.522.137600
SEQUENCE:3
DTSTAMP:20260424T174832Z
URL:https://business.hartland-wi.org/events/details/how-to-live-alone-without-being-lonely-137600
END:VEVENT

END:VCALENDAR
