BEGIN:VCALENDAR
VERSION:2.0
PRODID:-//ChamberMaster//Event Calendar 2.0//EN
METHOD:PUBLISH
X-PUBLISHED-TTL:P3D
REFRESH-INTERVAL:P3D
CALSCALE:GREGORIAN
BEGIN:VEVENT
DTSTART;VALUE=DATE:20110116
DTEND;VALUE=DATE:20110117
TRANSP:TRANSPARENT
X-MICROSOFT-CDO-ALLDAYEVENT:TRUE
SUMMARY:Home Alone Workshop
DESCRIPTION:Home Alone Workshop\n\nClass provides youth the tools necessary to start staying home alone.\n\nAges 8-10
X-ALT-DESC;FMTTYPE=text/html:Home Alone Workshop\n<br>Class provides youth the tools necessary to start staying home alone.\n<br>Ages 8-10
LOCATION:YMCA at Pabst Farms 1750 E. Valley Rd.\, Oconomowoc\, WI
UID:e.522.131273
SEQUENCE:3
DTSTAMP:20260423T000301Z
URL:https://business.hartland-wi.org/events/details/home-alone-workshop-01-16-2011-131273
END:VEVENT

END:VCALENDAR
