BEGIN:VCALENDAR
VERSION:2.0
PRODID:-//ChamberMaster//Event Calendar 2.0//EN
METHOD:PUBLISH
X-PUBLISHED-TTL:P3D
REFRESH-INTERVAL:P3D
CALSCALE:GREGORIAN
BEGIN:VEVENT
DTSTART:20121117T160000Z
DTEND:20121117T190000Z
X-MICROSOFT-CDO-ALLDAYEVENT:FALSE
SUMMARY:Holiday Stop & Shop
DESCRIPTION:Products and Gift items for Men\, Women and Teens......Shop the local\, fun\, easy way while you avoid the lines & crowds at the mall plus receive Free Gift Wrapping! \n\n\n\n    Make a wish list!\n\n        Try something new! \n\n            Browse the 50% off table!\n\n                Purchase special gift items at great sale prices! \n\n                    Register for your choice of the multiple door prize drawings!
X-ALT-DESC;FMTTYPE=text/html:<span style="font-size: 14px"><span style="font-family: 'comic sans ms'">Products and Gift items for Men\, Women and Teens......Shop the local\, fun\, easy way while you avoid the lines &amp\; crowds at the mall plus receive Free Gift Wrapping!&nbsp\;</span></span><br />\n<br />\n&nbsp\; &nbsp\;&nbsp\;<span style="font-size: 14px"><span style="font-family: 'comic sans ms'"><strong><span style="color: #ff0000">Make</span></strong> a wish list!</span></span><br />\n&nbsp\; &nbsp\; &nbsp\; &nbsp\; <span style="font-size: 14px"><span style="font-family: 'comic sans ms'"><strong><span style="color: rgb(255\,0\,0)">Try</span></strong>&nbsp\;something new! </span></span><br />\n&nbsp\; &nbsp\; &nbsp\; &nbsp\; &nbsp\; &nbsp\;&nbsp\;<span style="font-size: 14px"><span style="font-family: 'comic sans ms'"><strong><span style="color: #ff0000">Browse</span></strong> the 50% off table!</span></span><br />\n&nbsp\; &nbsp\; &nbsp\; &nbsp\; &nbsp\; &nbsp\; &nbsp\; &nbsp\;&nbsp\;<span style="font-size: 14px"><span style="font-family: 'comic sans ms'"><strong><span style="color: #ff0000">Purchase</span></strong> special gift items at great sale prices!&nbsp\;</span></span><br />\n&nbsp\; &nbsp\; &nbsp\; &nbsp\; &nbsp\; &nbsp\; &nbsp\; &nbsp\; &nbsp\; &nbsp\;&nbsp\;<span style="font-size: 14px"><span style="font-family: 'comic sans ms'"><strong><span style="color: #ff0000">Register</span></strong> for your choice of the multiple door prize drawings! &nbsp\; &nbsp\;</span></span>
LOCATION:Hartland location Call for directions\, 414-659-9110
UID:e.522.132037
SEQUENCE:3
DTSTAMP:20260421T060504Z
URL:https://business.hartland-wi.org/events/details/holiday-stop-shop-11-17-2012-132037
END:VEVENT

END:VCALENDAR
