BEGIN:VCALENDAR
VERSION:2.0
PRODID:-//ChamberMaster//Event Calendar 2.0//EN
METHOD:PUBLISH
X-PUBLISHED-TTL:P3D
REFRESH-INTERVAL:P3D
CALSCALE:GREGORIAN
BEGIN:VEVENT
DTSTART:20171207T230000Z
DTEND:20171208T020000Z
X-MICROSOFT-CDO-ALLDAYEVENT:FALSE
SUMMARY:Holiday Open House with Santa
DESCRIPTION:Celebrate the warmth of the season with Dr. Daniel Murray\, Dr. Brandon Meye\, and Dr. Noelle Margelowsky at Lake Country Health Center.  We will have refreshments and Hors D'ouevres\, live acoustic holiday music\, many raffle drawings including a grand prize of dinner at I.D. and a stay at the Delafield Hotel.  We will also have a visit from Santa 5:30-7:30! So bring your kids and cameras!
X-ALT-DESC;FMTTYPE=text/html:Celebrate the warmth of the season with Dr. Daniel Murray\, Dr. Brandon Meye\, and Dr. Noelle Margelowsky at Lake Country Health Center.&nbsp\; We will have refreshments and Hors D&#39\;ouevres\, live acoustic holiday music\, many raffle drawings including a grand prize of dinner at I.D. and a stay at the Delafield Hotel.&nbsp\; We will also have a visit from Santa 5:30-7:30! So bring your kids and cameras!
LOCATION:Lake Country Health Center 1452 Genesee Street ? Delafield\, WI 53018
UID:e.522.137153
SEQUENCE:3
DTSTAMP:20260423T164231Z
URL:https://business.hartland-wi.org/events/details/holiday-open-house-with-santa-137153
END:VEVENT

END:VCALENDAR
