BEGIN:VCALENDAR
VERSION:2.0
PRODID:-//ChamberMaster//Event Calendar 2.0//EN
METHOD:PUBLISH
X-PUBLISHED-TTL:P3D
REFRESH-INTERVAL:P3D
CALSCALE:GREGORIAN
BEGIN:VEVENT
DTSTART:20181201T150000Z
DTEND:20181201T190000Z
X-MICROSOFT-CDO-ALLDAYEVENT:FALSE
SUMMARY:Holiday Craft Fair & Cookie Decorating
DESCRIPTION:Holiday Craft Fair & Cookie Decorating\n\nOver 40 Crafters\, ARtisan and Vendors\n\n\n\nPlease join us in our annual craft fair.  Enjoy decorating holiday cookies\, festive refreshments and browse the arts and crafts created by local talent and our caregivers.\n\n\n\nCookie Decorating will be held in the Cafe\n\nCraft Fair will be held on the first floor of the hospital and clinic
X-ALT-DESC;FMTTYPE=text/html:<div style="text-align: center\;"><strong>Holiday Craft Fair &amp\; Cookie Decorating<br />\nOver 40 Crafters\, ARtisan and Vendors<br />\n<br />\nPlease join us in our annual craft fair.&nbsp\; Enjoy decorating holiday cookies\, festive refreshments and browse the arts and crafts created by local talent and our caregivers.<br />\n<br />\nCookie Decorating will be held in the Cafe<br />\nCraft Fair will be held on the first floor of the hospital and clinic</strong><br />\n&nbsp\;</div>\n
LOCATION:Aurora Medical Center Summit 36500 Aurora Drive Summit\, WI
UID:e.522.137490
SEQUENCE:3
DTSTAMP:20260424T115753Z
URL:https://business.hartland-wi.org/events/details/holiday-craft-fair-cookie-decorating-137490
END:VEVENT

END:VCALENDAR
