BEGIN:VCALENDAR
VERSION:2.0
PRODID:-//ChamberMaster//Event Calendar 2.0//EN
METHOD:PUBLISH
X-PUBLISHED-TTL:P3D
REFRESH-INTERVAL:P3D
CALSCALE:GREGORIAN
BEGIN:VEVENT
DTSTART:20191207T160000Z
DTEND:20191207T200000Z
X-MICROSOFT-CDO-ALLDAYEVENT:FALSE
SUMMARY:HOLIDAY COOKIE SALE
DESCRIPTION:HOLIDAY COOKIE SALE   Let the Woman's Club of Hartland do your holiday cookie baking!  This is one of our most yummy annual events.  All types of cookies available\, including gluten- and nut-free.  All proceeds support local community events\, non-profit and charitable organizations\, and educational purposes.
X-ALT-DESC;FMTTYPE=text/html:<strong>HOLIDAY COOKIE SALE</strong>&nbsp\; &nbsp\;Let the Woman&#39\;s Club of Hartland do your holiday cookie baking!&nbsp\; This is one of our most yummy annual events.&nbsp\; All types of cookies available\, including gluten- and nut-free.&nbsp\; All proceeds support local community events\, non-profit and charitable organizations\, and educational purposes.
LOCATION:Hartland Community Center\, 100 E. Park Avenue\, Hartland.
UID:e.522.137026
SEQUENCE:3
DTSTAMP:20260419T160901Z
URL:https://business.hartland-wi.org/events/details/holiday-cookie-sale-137026
END:VEVENT

END:VCALENDAR
