BEGIN:VCALENDAR
VERSION:2.0
PRODID:-//ChamberMaster//Event Calendar 2.0//EN
METHOD:PUBLISH
X-PUBLISHED-TTL:P3D
REFRESH-INTERVAL:P3D
CALSCALE:GREGORIAN
BEGIN:VEVENT
DTSTART:20190115T230000Z
DTEND:20190116T010000Z
X-MICROSOFT-CDO-ALLDAYEVENT:FALSE
SUMMARY:Helping your Parents as they Age
DESCRIPTION:Helping your Parents as they Age\n\nAs we grow up we count on our parents to take care of us and to provide for our safety.  Karen Fischer\, Psychotherapist\, will help us understand taking care of our loved ones as well as the importance of taking care of you\, family needs and finding support that is available.\n\n\n\nRegistration is required by calling:  888-863-5502 or contact Trish Golden at 262-434-1248
X-ALT-DESC;FMTTYPE=text/html:<div style="text-align: center\;"><strong>Helping your Parents as they Age<br />\nAs we grow up we count on our parents to take care of us and to provide for our safety.&nbsp\; Karen Fischer\, Psychotherapist\, will help us understand taking care of our loved ones as well as the importance of taking care of you\, family needs and finding support that is available.<br />\n<br />\nRegistration is required by calling:&nbsp\; 888-863-5502 or contact Trish Golden at 262-434-1248</strong><br />\n&nbsp\;</div>\n
LOCATION:Aurora Medical Center Summit Draper Hall
UID:e.522.137599
SEQUENCE:3
DTSTAMP:20260424T135142Z
URL:https://business.hartland-wi.org/events/details/helping-your-parents-as-they-age-137599
END:VEVENT

END:VCALENDAR
