BEGIN:VCALENDAR
VERSION:2.0
PRODID:-//ChamberMaster//Event Calendar 2.0//EN
METHOD:PUBLISH
X-PUBLISHED-TTL:P3D
REFRESH-INTERVAL:P3D
CALSCALE:GREGORIAN
BEGIN:VEVENT
DTSTART;VALUE=DATE:20110305
DTEND;VALUE=DATE:20110306
TRANSP:TRANSPARENT
X-MICROSOFT-CDO-ALLDAYEVENT:TRUE
SUMMARY:Healthy Kids Day
DESCRIPTION:Family health has always been a priority for the YMCA.  Activities are intended to promote healthy lifestyles and encourage families and friends to spend time getting and staying healthier together!
X-ALT-DESC;FMTTYPE=text/html:Family health has always been a priority for the YMCA.  Activities are intended to promote healthy lifestyles and encourage families and friends to spend time getting and staying healthier together!
LOCATION:YMCA at Pabst Farms 1750 E. Valley Road\, Oconomowoc\, WI
UID:e.522.131548
SEQUENCE:3
DTSTAMP:20260422T202047Z
URL:https://business.hartland-wi.org/events/details/healthy-kids-day-03-05-2011-131548
END:VEVENT

END:VCALENDAR
