BEGIN:VCALENDAR
VERSION:2.0
PRODID:-//ChamberMaster//Event Calendar 2.0//EN
METHOD:PUBLISH
X-PUBLISHED-TTL:P3D
REFRESH-INTERVAL:P3D
CALSCALE:GREGORIAN
BEGIN:VEVENT
DTSTART:20181204T140000Z
DTEND:20181204T160000Z
X-MICROSOFT-CDO-ALLDAYEVENT:FALSE
SUMMARY:Healthy Cooking for Singles or Couples: Summit Senior Breakfast Club
DESCRIPTION:Summit Senior Breakfast Club\n\nHealthy Cooking for Singles or Couples\n\n\n\nWith a little planning you can enjoy healthy and delicious meals wheter you're dining alone or with a companion.  Join Gloria Maliszewski-Weller\, Diabetic Educator and learn tips on preparing delicious meals.\n\n\n\nRegistration is required:  888-863-5502 or contact Trish Golden at 262-434-1248
X-ALT-DESC;FMTTYPE=text/html:<div style="text-align: center\;"><strong>Summit Senior Breakfast Club<br />\nHealthy Cooking for Singles or Couples<br />\n<br />\nWith a little planning you can enjoy healthy and delicious meals wheter you&#39\;re dining alone or with a companion.&nbsp\; Join Gloria Maliszewski-Weller\, Diabetic Educator and learn tips on preparing delicious meals.<br />\n<br />\nRegistration is required:&nbsp\; 888-863-5502 or contact Trish Golden at 262-434-1248</strong><br />\n&nbsp\;</div>\n
LOCATION:Aurora Medical Center Summit Draper Hall 36500 Aurora Drive Summit\, WI
UID:e.522.137476
SEQUENCE:3
DTSTAMP:20260424T120154Z
URL:https://business.hartland-wi.org/events/details/healthy-cooking-for-singles-or-couples-summit-senior-breakfast-club-137476
END:VEVENT

END:VCALENDAR
