BEGIN:VCALENDAR
VERSION:2.0
PRODID:-//ChamberMaster//Event Calendar 2.0//EN
METHOD:PUBLISH
X-PUBLISHED-TTL:P3D
REFRESH-INTERVAL:P3D
CALSCALE:GREGORIAN
BEGIN:VEVENT
DTSTART:20181029T230000Z
DTEND:20181030T003000Z
X-MICROSOFT-CDO-ALLDAYEVENT:FALSE
SUMMARY:Healing\, Hope and Celebration: Grief Support Group
DESCRIPTION:Healing\, Hope and Celebration\n\nA Grief Support Group\n\n\n\nGrief is both a painful necessity and a privilege\, for it comes as a result of having loved.\n\n\n\nAny holiday or special day after the death of a loved one can trigger some emotional reactions.  This program will provide some insight into coping with these emotions.  In addition\, it will provide a opportunity to reflect on life changes\, learn ways to move through grief\, and help define your needs when dealing with special days.  Join us as we discuss suggestions that may help you better cope with your grief during this joyful\, yet painful\, time of the year.\n\n\n\nRegistration is required by phoning:  888-863-5502 or contact Trish Golden at 262-434-1248
X-ALT-DESC;FMTTYPE=text/html:<div style="text-align: center\;"><strong>Healing\, Hope and Celebration<br />\nA Grief Support Group<br />\n<br />\nGrief is both a painful necessity and a privilege\, for it comes as a result of having loved.<br />\n<br />\nAny holiday or special day after the death of a loved one can trigger some emotional reactions.&nbsp\; This program will provide some insight into coping with these emotions.&nbsp\; In addition\, it will provide a opportunity to reflect on life changes\, learn ways to move through grief\, and help define your needs when dealing with special days.&nbsp\; Join us as we discuss suggestions that may help you better cope with your grief during this joyful\, yet painful\, time of the year.<br />\n<br />\nRegistration is required by phoning:&nbsp\; 888-863-5502 or contact Trish Golden at 262-434-1248</strong><br />\n<br />\n<br />\n<br />\n&nbsp\;</div>\n
LOCATION:Aurora Medical Center Summit Gifford Hall 36500 Aurora Drive Summit\, WI
UID:e.522.137489
SEQUENCE:3
DTSTAMP:20260424T090657Z
URL:https://business.hartland-wi.org/events/details/healing-hope-and-celebration-grief-support-group-137489
END:VEVENT

END:VCALENDAR
