BEGIN:VCALENDAR
VERSION:2.0
PRODID:-//ChamberMaster//Event Calendar 2.0//EN
METHOD:PUBLISH
X-PUBLISHED-TTL:P3D
REFRESH-INTERVAL:P3D
CALSCALE:GREGORIAN
BEGIN:VEVENT
DTSTART:20180515T130000Z
DTEND:20180515T150000Z
X-MICROSOFT-CDO-ALLDAYEVENT:FALSE
SUMMARY:Headache Causes\, Types and Treatment Options
DESCRIPTION:Headache Causes\, Types and Treatment Options\n\nSummit Community Health Beat\n\n\n\nHeadaches may be caused by a number of conditions.  Darryl Prince\, board certified neurologist will discuss more about the causes\, types and symptoms of headaches as well as treatment options.\n\n\n\nRegistration is required by phoning:  888-863-5502
X-ALT-DESC;FMTTYPE=text/html:<div style="text-align: center\;"><strong>Headache Causes\, Types and Treatment Options<br />\nSummit Community Health Beat<br />\n<br />\nHeadaches may be caused by a number of conditions.&nbsp\; Darryl Prince\, board certified neurologist will discuss more about the causes\, types and symptoms of headaches as well as treatment options.<br />\n<br />\nRegistration is required by phoning:&nbsp\; 888-863-5502</strong><br />\n&nbsp\;</div>\n
LOCATION:Aurora Medical Center Summit Draper Hall 36500 Aurora Drive Summit\, WI
UID:e.522.137197
SEQUENCE:3
DTSTAMP:20260424T010721Z
URL:https://business.hartland-wi.org/events/details/headache-causes-types-and-treatment-options-137197
END:VEVENT

END:VCALENDAR
