BEGIN:VCALENDAR
VERSION:2.0
PRODID:-//ChamberMaster//Event Calendar 2.0//EN
METHOD:PUBLISH
X-PUBLISHED-TTL:P3D
REFRESH-INTERVAL:P3D
CALSCALE:GREGORIAN
BEGIN:VEVENT
DTSTART:20121010T230000Z
DTEND:20121011T000000Z
X-MICROSOFT-CDO-ALLDAYEVENT:FALSE
SUMMARY:Hawaii Night
DESCRIPTION:Join us for a fun night learning about Hawaii.  Think sunshine and bring your calendar!\n\ncontact me for details\n\nrennie@mylakecountrytravel.com\n\n414-721-1883
X-ALT-DESC;FMTTYPE=text/html:Join us for a fun night learning about Hawaii.&nbsp\; Think sunshine and bring your calendar!<br />\ncontact me for details<br />\nrennie@mylakecountrytravel.com<br />\n414-721-1883
LOCATION:
UID:e.522.132021
SEQUENCE:3
DTSTAMP:20260421T075106Z
URL:https://business.hartland-wi.org/events/details/hawaii-night-10-10-2012-132021
END:VEVENT

END:VCALENDAR
