BEGIN:VCALENDAR
VERSION:2.0
PRODID:-//ChamberMaster//Event Calendar 2.0//EN
METHOD:PUBLISH
X-PUBLISHED-TTL:P3D
REFRESH-INTERVAL:P3D
CALSCALE:GREGORIAN
BEGIN:VEVENT
DTSTART;VALUE=DATE:20121020
DTEND;VALUE=DATE:20121021
TRANSP:TRANSPARENT
X-MICROSOFT-CDO-ALLDAYEVENT:TRUE
SUMMARY:Haunted Hold'em and Trivia Night
DESCRIPTION:1st Annual Haunted Hold'em and Trivia Night\n\n\n\nPresented by\n\nHartland Kiwanis\n\nWww.kiwanisofhartland.com\n\nJoin us for either texas Hold'em or Trivia\n\n\n\nWhen: Saturday\, October 20th\n\n\n\nFee: Free\n\n\n\nWhere: American legion Hartland\, WI 53029\n\n\n\nTime: 5 pm food and Drinks\n\n6 pm Texas holdem Starts *\n\n7 pm trivia Starts\n\n\n\n*Limited seats available to guarantee a spot please rsvp at kiwanisofhartland.com\n\n\n\nOver $1\,000 in Prizes!!!\n\n\n\nMust be 21 or Older to Enter
X-ALT-DESC;FMTTYPE=text/html:<strong>1st Annual Haunted Hold&#39\;em and Trivia Night</strong><br />\n<br />\nPresented by<br />\nHartland Kiwanis<br />\nWww.kiwanisofhartland.com<br />\nJoin us for either texas Hold&rsquo\;em or Trivia<br />\n<br />\nWhen: Saturday\, October 20th<br />\n<br />\nFee: Free<br />\n<br />\nWhere: American legion Hartland\, WI 53029<br />\n<br />\nTime: 5 pm food and Drinks<br />\n6 pm Texas holdem Starts *<br />\n7 pm trivia Starts<br />\n<br />\n*Limited seats available to guarantee a spot please rsvp at kiwanisofhartland.com<br />\n<br />\nOver $1\,000 in Prizes!!!<br />\n<br />\nMust be 21 or Older to Enter
LOCATION:VFW Hartland
UID:e.522.132029
SEQUENCE:3
DTSTAMP:20260421T093728Z
URL:https://business.hartland-wi.org/events/details/haunted-hold-em-and-trivia-night-10-20-2012-132029
END:VEVENT

END:VCALENDAR
