BEGIN:VCALENDAR
VERSION:2.0
PRODID:-//ChamberMaster//Event Calendar 2.0//EN
METHOD:PUBLISH
X-PUBLISHED-TTL:P3D
REFRESH-INTERVAL:P3D
CALSCALE:GREGORIAN
BEGIN:VEVENT
DTSTART:20131103T000000Z
DTEND:20131103T040000Z
X-MICROSOFT-CDO-ALLDAYEVENT:FALSE
SUMMARY:Harvest Holdem & Trivia Night
DESCRIPTION:Harvet Holdem & Trivia Night\n\nPresented by Hartland Kiwanis
X-ALT-DESC;FMTTYPE=text/html:Harvet Holdem &amp\; Trivia Night<br />\nPresented by Hartland Kiwanis
LOCATION:St. Charles Church 521 Renson Road Hartland
UID:e.522.132772
SEQUENCE:3
DTSTAMP:20260420T123514Z
URL:https://business.hartland-wi.org/events/details/harvest-holdem-trivia-night-11-02-2013-132772
END:VEVENT

END:VCALENDAR
