BEGIN:VCALENDAR
VERSION:2.0
PRODID:-//ChamberMaster//Event Calendar 2.0//EN
METHOD:PUBLISH
X-PUBLISHED-TTL:P3D
REFRESH-INTERVAL:P3D
CALSCALE:GREGORIAN
BEGIN:VEVENT
DTSTART;VALUE=DATE:20111101
DTEND;VALUE=DATE:20111201
TRANSP:TRANSPARENT
X-MICROSOFT-CDO-ALLDAYEVENT:TRUE
SUMMARY:Hartland Service Annual Food Pantry Collection
DESCRIPTION:For the month of November\, we will give out a free car wash for every 5 items brought in.  Thanks to the generosity of our customers every year\, we will help families in need in our community.
X-ALT-DESC;FMTTYPE=text/html:For the month of November\, we will give out a free car wash for every 5 items brought in.&nbsp\; Thanks to the generosity of our customers every year\, we will help families in need in our community.
LOCATION:400 E. Industrial Drive Hartland\, WI 53029
UID:e.522.131779
SEQUENCE:3
DTSTAMP:20260422T023742Z
URL:https://business.hartland-wi.org/events/details/hartland-service-annual-food-pantry-collection-11-01-2011-131779
END:VEVENT

END:VCALENDAR
