BEGIN:VCALENDAR
VERSION:2.0
PRODID:-//ChamberMaster//Event Calendar 2.0//EN
METHOD:PUBLISH
X-PUBLISHED-TTL:P3D
REFRESH-INTERVAL:P3D
CALSCALE:GREGORIAN
BEGIN:VEVENT
DTSTART:20170401T140000Z
DTEND:20170401T180000Z
X-MICROSOFT-CDO-ALLDAYEVENT:FALSE
SUMMARY:HARTLAND SERVICE 25TH ANNIVERSARY OPEN HOUSE
DESCRIPTION:Please join us as we celebrate 25 years of serving the Hartland and Lake Country communities.  Come meet our staff and tour our newly remodeled business.  We will have some great cars on display and will have free car washes during the open house.  Food\, drinks and fun will make it a great time.  We look forward to seeing everyone!
X-ALT-DESC;FMTTYPE=text/html:Please join us as we celebrate 25 years of serving the Hartland and Lake Country communities.&nbsp\; Come meet our staff and tour our newly remodeled business.&nbsp\; We will have some great cars on display and will have free car washes during the open house.&nbsp\; Food\, drinks and fun will make it a great time.&nbsp\; We look forward to seeing everyone!&nbsp\;
LOCATION:Hartland Service\, Inc. 400 E. Industrial Dr. Hartland
UID:e.522.134758
SEQUENCE:3
DTSTAMP:20260423T031442Z
URL:https://business.hartland-wi.org/events/details/hartland-service-25th-anniversary-open-house-134758
END:VEVENT

END:VCALENDAR
