BEGIN:VCALENDAR
VERSION:2.0
PRODID:-//ChamberMaster//Event Calendar 2.0//EN
METHOD:PUBLISH
X-PUBLISHED-TTL:P3D
REFRESH-INTERVAL:P3D
CALSCALE:GREGORIAN
BEGIN:VEVENT
DTSTART:20190630T181500Z
DTEND:20190630T191500Z
X-MICROSOFT-CDO-ALLDAYEVENT:FALSE
SUMMARY:Hartland's Hometown Celebration Children's Parade
DESCRIPTION:The Children's Bike Parade is making a comeback!!!\n\n\n\nFor information regarding the Hartland's Hometown\n\nCelebration Children's Parade:\n\n\n\nClick Here \n\n\n\nSponsored by Hometown Pharmacy
X-ALT-DESC;FMTTYPE=text/html:<div style="text-align: center\;"><br />\n<strong><span style="font-size:20px\;"><span style="color:#0000FF\;">The Children&#39\;s Bike Parade is making a comeback!!!<br />\n<br />\nFor information regarding the Hartland&#39\;s Hometown<br />\nCelebration Children&#39\;s Parade:</span><br />\n<br />\n<a href="https://chambermaster.blob.core.windows.net/userfiles/UserFiles/chambers/522/File/ChildrensParade1.pdf"><span style="color:#FF0000\;"><span style="font-size:24px\;">Click Here</span></span></a><span style="font-size:24px\;"><span style="color:#FF0000\;">&nbsp\;<br />\n<br />\n<span style="font-size:18px\;">Sponsored by Hometown Pharmacy</span></span></span></span></strong></div>\n
LOCATION:Church Street - Downtown Hartland
UID:e.522.138030
SEQUENCE:3
DTSTAMP:20260424T232436Z
URL:https://business.hartland-wi.org/events/details/hartland-s-hometown-celebration-children-s-parade-138030
END:VEVENT

END:VCALENDAR
