BEGIN:VCALENDAR
VERSION:2.0
PRODID:-//ChamberMaster//Event Calendar 2.0//EN
METHOD:PUBLISH
X-PUBLISHED-TTL:P3D
REFRESH-INTERVAL:P3D
CALSCALE:GREGORIAN
BEGIN:VEVENT
DTSTART:20160624T230000Z
DTEND:20160626T220000Z
X-MICROSOFT-CDO-ALLDAYEVENT:FALSE
SUMMARY:Hartland's Hometown Celebration
DESCRIPTION:Friday\, June 24 : Fireworks\n\nSunday\, June 26 : Parade
X-ALT-DESC;FMTTYPE=text/html:<div>Friday\,&nbsp\;June 24&nbsp\;: Fireworks<br />\nSunday\,&nbsp\;June 26&nbsp\;: Parade&nbsp\;<br />\n<br />\n&nbsp\;</div>\n
LOCATION:
UID:e.522.133348
SEQUENCE:3
DTSTAMP:20260422T093640Z
URL:https://business.hartland-wi.org/events/details/hartland-s-hometown-celebration-06-24-2016-133348
END:VEVENT

END:VCALENDAR
