BEGIN:VCALENDAR
VERSION:2.0
PRODID:-//ChamberMaster//Event Calendar 2.0//EN
METHOD:PUBLISH
X-PUBLISHED-TTL:P3D
REFRESH-INTERVAL:P3D
CALSCALE:GREGORIAN
BEGIN:VEVENT
DTSTART:20110805T000000Z
DTEND:20110805T020000Z
X-MICROSOFT-CDO-ALLDAYEVENT:FALSE
SUMMARY:Hartland Parks\, Thursday Night Music - Featuring West of East
DESCRIPTION:Bring your lawn chairs on Thursday evenings during the summer and enjoy a variety of musical entertainment at the Nixon Park Fine Arts Center\, located at Goodwin and E. Park.  These performances are funded by donations from Kiwanis\, Rotary\, the Hartland Woman's Club\, and the Village of Hartland.\n\n\n\nThursday\, August 4th will feature Milwaukee based band\, West of East. \n\n\n\nDriven by vocals that mix the subtle\, velvety style of Norah Jones with the power of Neko Case\, West of East pairs intelligently crafted lyrics with their own blend of acoustic folk and gritty\, electric guitar soaked alt-country.
X-ALT-DESC;FMTTYPE=text/html:<span class="Apple-style-span" style="color: rgb(0\, 0\, 0)\; font-family: Verdana\, Arial\, Helvetica\, sans-serif\; font-size: medium\; ">Bring your lawn chairs on Thursday evenings during the summer and enjoy a variety of musical entertainment at the&nbsp\;Nixon Park&nbsp\;Fine Arts Center\,&nbsp\;located at Goodwin and E. Park.&nbsp\; These performances are funded by donations from Kiwanis\, Rotary\, the Hartland Woman&#39\;s Club\, and the Village of Hartland.<br />\n<br />\nThursday\, August 4th will feature Milwaukee based band\, West of East.&nbsp\;<br />\n<br />\n<span class="Apple-style-span" style="color: rgb(5\, 5\, 2)\; line-height: 20px\; -webkit-border-horizontal-spacing: 8px\; -webkit-border-vertical-spacing: 8px\; ">Driven by vocals that mix the subtle\, velvety style of Norah Jones with the power of Neko Case\, West of East pairs intelligently crafted lyrics with their own blend of acoustic folk and gritty\, electric guitar soaked alt-country.</span></span><br />\n
LOCATION:Nixon Park\, 175E. Park St\, Hartland\, WI
UID:e.522.131729
SEQUENCE:3
DTSTAMP:20260420T125747Z
URL:https://business.hartland-wi.org/events/details/hartland-parks-thursday-night-music-featuring-west-of-east-08-04-2011-131729
END:VEVENT

END:VCALENDAR
