BEGIN:VCALENDAR
VERSION:2.0
PRODID:-//ChamberMaster//Event Calendar 2.0//EN
METHOD:PUBLISH
X-PUBLISHED-TTL:P3D
REFRESH-INTERVAL:P3D
CALSCALE:GREGORIAN
BEGIN:VEVENT
DTSTART;VALUE=DATE:20171026
DTEND;VALUE=DATE:20171027
TRANSP:TRANSPARENT
X-MICROSOFT-CDO-ALLDAYEVENT:TRUE
SUMMARY:Hartland Movement Center Grand Opening
DESCRIPTION:Hartland Movement Center is a uniquely innovative health\, fitness\, and well being  facility. It is created for people like you  people who celebrate life and who want to live life their way in health\, comfort\, and confidence. \n\nOur collaborative mix of independent\, best-in-class professionals\, who teach\, educate \, test\, treat\, train\, and transform your uncertain "can't dos" into unstoppable "can dos".  Got a glitch\, gap or goal in your life? Our resident experts will get you to where you want to be. Whether you are active or inactive\, gearing up or winding down\, getting in-shape or chilling-out\, young or old\, novice or elite\, enabled or disabled\, trendsetter or wannabe\, we've got what you want.  \n\nSo\, what do we offer at Hartland Movement Center? Glad you asked   We've got expert chiropractic and nutritional coaching\, personal training and coaching (Strength\, Agility\, Pilates\, Gyrotonic  Expansion System)\, massage and theraputic healing arts for starters.   Then we've got running\, cycling\, and competing in any sport you might be imagining.  And then theres classes in Pilates\, (Equipment and Mat) Yoga\, Barre\, TRX\, AFS\, GYROTONIC\, GYROKINESIS\, Core Align\, and so much more plus always something new.\n\nOur health\, fitness\, and well being experts offer private\, semi-private\, small-group\, and class sessions. There's something for everyone!\n\n?\n\nSo get on in and get your move on!\n\n?\n\nHartl\n\n\nHartland Movement Center is a uniquely innovative health\, fitness\, and well being  facility. It is created for people like you  people who celebrate life and who want to live life their way in health\, comfort\, and confidence. \n\nOur collaborative mix of independent\, best-in-class professionals\, who teach\, educate \, test\, treat\, train\, and transform your uncertain "can't dos" into unstoppable "can dos".  Got a glitch\, gap or goal in your life? Our resident experts will get you to where you want to be. Whether you are active or inactive\, gearing up or winding down\, getting in-shape or chilling-out\, young or old\, novice or elite\, enabled or disabled\, trendsetter or wannabe\, we've got what you want.  \n\nSo\, what do we offer at Hartland Movement Center? Glad you asked   We've got expert chiropractic and nutritional coaching\, personal training and coaching (Strength\, Agility\, Pilates\, Gyrotonic  Expansion System)\, massage and theraputic healing arts for starters.   Then we've got running\, cycling\, and competing in any sport you might be imagining.  And then theres classes in Pilates\, (Equipment and Mat) Yoga\, Barre\, TRX\, AFS\, GYROTONIC\, GYROKINESIS\, Core Align\, and so much more plus always something new.\n\nOur health\, fitness\, and well being experts offer private\, semi-private\, small-group\, and class sessions. There's something for everyone!\n\n?\n\nSo get on in and get your move on!\n\n?\n\nHartHartland Movement Center is a uniquely innovative health\, fitness\, and wellbeing facility. It is created for people like you  people who celebrate life and who want to live life their way in health\, comfort\, and confidence. \n\nOur collaborative mix of independent\, best-in-class professionals teach\, tutor\, test\, treat\, train\, and transform your uncertain "can't dos" into unstoppable "can dos".  Got a glitch\, gap or goal in your life? Our resident experts will get you to where you want to be. Whether you are active or inactive\, gearing up or winding down\, getting in-shape or chilling-out\, young or old\, novice or elite\, enabled or disabled\, trendsetter or wannabe\, we've got what you want.  \n\nSo\, what do we offer at Hartland Movement Center? Glad you asked   We've got expert personal training\, coaching\, chiropractic\, and massage for starters. Then we've got running\, cycling\, and competing in any sport you might be imagining.  And there's Pilates\, Yoga\, Barre\, TRX\, AFS\, GYROTONIC\, GYROKINESIS\, Core Align\, and so much more plus always something new.\n\nOur health\, fitness\, and wellbeing experts offer private\, semi-private\, small-group\, and class sessions. There's something for everyone!\n\nSo get on in and get your move on!\n\nHartland Movement Center is the "Go To" choice for people in Hartland\, Oconomowoc\, Pewaukee\, Waukesha\, Lake Country\, and beyond   Join us for a workout and/or check us out.  \n\nMeet the team\, Anita Krier LLC\, Elements in Motions LLC\, Catalyst Wellness\, 360 Fitness\, Body WoRX Solutions\, FAST Fitness and Sports Training\, and Renegade4Love.\n\nFor more information call 414-531-1204..\n\nland Movement Center is the "Go To" choice for people in Hartland\, Oconomowoc\, Pewaukee\, Waukesha\, Lake Country\, and beyond \n\n?\n\n \n\n?\n\n\n\n\n \n\n\n\n\n\n\n\n \n\n\n\n\n \n\n\n\n\nand Movement Center is the "Go To" choice for people in Hartland\, Oconomowoc\, Pewaukee\, Waukesha\, Lake Country\, and beyond \n\n \n\n?
X-ALT-DESC;FMTTYPE=text/html:<div>\n<p><span style="color:rgb(255\, 255\, 255)">Hartland Movement Center is a uniquely innovative health\, fitness\, and well being&nbsp\; facility. It is created for people like you&hellip\; people who celebrate life and who want to live life their way in health\, comfort\, and confidence.&nbsp\;</span></p>\n\n<p><span style="color:rgb(255\, 255\, 255)">Our collaborative mix of independent\, best-in-class professionals\, who teach\, educate \, test\, treat\, train\, and transform your uncertain &ldquo\;can&rsquo\;t dos&rdquo\; into unstoppable &ldquo\;can dos&rdquo\;.&nbsp\; Got a glitch\, gap or goal in your life? Our resident experts will get you to where you want to be. Whether you are active or inactive\, gearing up or winding down\, getting in-shape or chilling-out\, young or old\, novice or elite\, enabled or disabled\, trendsetter or wannabe\, we&rsquo\;ve got what you want. &nbsp\;</span></p>\n\n<p><span style="color:rgb(255\, 255\, 255)">So\, what do we offer at Hartland Movement Center? Glad you asked&hellip\;&nbsp\; We&rsquo\;ve got expert chiropractic and nutritional coaching\, personal training and coaching (Strength\, Agility\, Pilates\, Gyrotonic</span><span style="color:rgb(254\, 253\, 254)">&reg\; Expansion System)\,&nbsp\;massage and theraputic healing arts for starters.&nbsp\;&nbsp\;</span><span style="color:rgb(255\, 255\, 255)">&nbsp\;Then we&rsquo\;ve got running\, cycling\, and competing in any sport you might be imagining.&nbsp\; And then theres classes in Pilates\, (Equipment and Mat) Yoga\, Barre\, TRX\, AFS\, GYROTONIC\, GYROKINESIS\, Core Align\, and so much more plus always something new.</span></p>\n\n<p><span style="color:rgb(255\, 255\, 255)">Our health\, fitness\, and well being experts offer private\, semi-private\, small-group\, and class sessions. There&rsquo\;s something for everyone!</span></p>\n\n<p><span style="color:rgb(255\, 255\, 255)">?</span></p>\n\n<p><strong><span style="color:rgb(255\, 255\, 255)">So get on in and&nbsp\;get your move on!</span></strong></p>\n\n<p><strong><span style="color:rgb(255\, 255\, 255)">?</span></strong></p>\n\n<p><span style="color:rgb(255\, 255\, 255)">Hartl</span></p>\n\n<div>\n<p><span style="color:rgb(255\, 255\, 255)">Hartland Movement Center is a uniquely innovative health\, fitness\, and well being&nbsp\; facility. It is created for people like you&hellip\; people who celebrate life and who want to live life their way in health\, comfort\, and confidence.&nbsp\;</span></p>\n\n<p><span style="color:rgb(255\, 255\, 255)">Our collaborative mix of independent\, best-in-class professionals\, who teach\, educate \, test\, treat\, train\, and transform your uncertain &ldquo\;can&rsquo\;t dos&rdquo\; into unstoppable &ldquo\;can dos&rdquo\;.&nbsp\; Got a glitch\, gap or goal in your life? Our resident experts will get you to where you want to be. Whether you are active or inactive\, gearing up or winding down\, getting in-shape or chilling-out\, young or old\, novice or elite\, enabled or disabled\, trendsetter or wannabe\, we&rsquo\;ve got what you want. &nbsp\;</span></p>\n\n<p><span style="color:rgb(255\, 255\, 255)">So\, what do we offer at Hartland Movement Center? Glad you asked&hellip\;&nbsp\; We&rsquo\;ve got expert chiropractic and nutritional coaching\, personal training and coaching (Strength\, Agility\, Pilates\, Gyrotonic</span><span style="color:rgb(254\, 253\, 254)">&reg\; Expansion System)\,&nbsp\;massage and theraputic healing arts for starters.&nbsp\;&nbsp\;</span><span style="color:rgb(255\, 255\, 255)">&nbsp\;Then we&rsquo\;ve got running\, cycling\, and competing in any sport you might be imagining.&nbsp\; And then theres classes in Pilates\, (Equipment and Mat) Yoga\, Barre\, TRX\, AFS\, GYROTONIC\, GYROKINESIS\, Core Align\, and so much more plus always something new.</span></p>\n\n<p><span style="color:rgb(255\, 255\, 255)">Our health\, fitness\, and well being experts offer private\, semi-private\, small-group\, and class sessions. There&rsquo\;s something for everyone!</span></p>\n\n<p><span style="color:rgb(255\, 255\, 255)">?</span></p>\n\n<p><strong><span style="color:rgb(255\, 255\, 255)">So get on in and&nbsp\;get your move on!</span></strong></p>\n\n<p><strong><span style="color:rgb(255\, 255\, 255)">?</span></strong></p>\n\n<p><span style="color:rgb(255\, 255\, 255)">Hart</span><span style="color:#404040"><span style="font-size:10pt">Hartland Movement Center is a uniquely innovative health\, fitness\, and wellbeing facility. It is created for people like you&hellip\; people who celebrate life and who want to live life their way in health\, comfort\, and confidence.&nbsp\;</span></span><br />\n<span style="color:#404040"><span style="font-size:10pt">Our collaborative mix of independent\, best-in-class professionals teach\, tutor\, test\, treat\, train\, and transform your uncertain &ldquo\;can&rsquo\;t dos&rdquo\; into unstoppable &ldquo\;can dos&rdquo\;.&nbsp\; Got a glitch\, gap or goal in your life? Our resident experts will get you to where you want to be. Whether you are active or inactive\, gearing up or winding down\, getting in-shape or chilling-out\, young or old\, novice or elite\, enabled or disabled\, trendsetter or wannabe\, we&rsquo\;ve got what you want. &nbsp\;</span></span><br />\n<span style="color:#404040"><span style="font-size:10pt">So\, what do we offer at Hartland Movement Center? Glad you asked&hellip\;&nbsp\; We&rsquo\;ve got expert personal training\, coaching\, chiropractic\, and massage for starters. Then we&rsquo\;ve got running\, cycling\, and competing in any sport you might be imagining.&nbsp\; And there&rsquo\;s Pilates\, Yoga\, Barre\, TRX\, AFS\, GYROTONIC\, GYROKINESIS\, Core Align\, and so much more plus always something new.</span></span><br />\n<span style="color:#404040"><span style="font-size:10pt">Our health\, fitness\, and wellbeing experts offer private\, semi-private\, small-group\, and class sessions. There&rsquo\;s something for everyone!</span></span><br />\n<span style="color:#404040"><span style="font-size:10pt">So get on in and&nbsp\;<em>get your move on</em>!</span></span><br />\n<span style="color:#404040"><span style="font-size:10pt">Hartland Movement Center is the &ldquo\;Go To&rdquo\; choice for people in Hartland\, Oconomowoc\, Pewaukee\, Waukesha\, Lake Country\, and beyond&hellip\;&nbsp\; Join us for a workout and/or check us out.&nbsp\;&nbsp\;<br />\nMeet the team\, Anita Krier LLC\, Elements in Motions LLC\, Catalyst Wellness\, 360 Fitness\, Body WoRX Solutions\, FAST Fitness and Sports Training\, and Renegade4Love.<br />\nFor more information call 414-531-1204..</span></span><br />\n<span style="color:rgb(255\, 255\, 255)">land Movement Center is the &ldquo\;Go To&rdquo\; choice for people in Hartland\, Oconomowoc\, Pewaukee\, Waukesha\, Lake Country\, and beyond&hellip\;</span></p>\n\n<p>?</p>\n\n<h5 style="text-align:center">&nbsp\;</h5>\n\n<p style="text-align:center"><span style="color:rgb(254\, 253\, 254)">?</span></p>\n</div>\n\n<div>\n<div>\n<div>&nbsp\;</div>\n</div>\n</div>\n\n<div>\n<div>\n<div>\n<div>\n<div style="background:rgb(186\, 173\, 173)\; border:0px\; padding:0px">&nbsp\;</div>\n</div>\n</div>\n\n<div>\n<div>&nbsp\;</div>\n</div>\n</div>\n</div>\n\n<p><span style="color:rgb(255\, 255\, 255)">and Movement Center is the &ldquo\;Go To&rdquo\; choice for people in Hartland\, Oconomowoc\, Pewaukee\, Waukesha\, Lake Country\, and beyond&hellip\;</span></p>\n\n<p>&nbsp\;</p>\n\n<p style="text-align:center"><span style="color:rgb(254\, 253\, 254)">?</span></p>\n</div>\n\n<div>\n<div>\n<div>&nbsp\;</div>\n</div>\n</div>\n\n<div>\n<div>\n<div>\n<div>\n<div style="background:rgb(186\, 173\, 173)\; border:0px\; padding:0px">&nbsp\;</div>\n</div>\n</div>\n\n<div>\n<div>&nbsp\;</div>\n</div>\n</div>\n</div>\n
LOCATION:592 West North Shore Drive Hartland\, WI 53029
UID:e.522.137025
SEQUENCE:3
DTSTAMP:20260423T132256Z
URL:https://business.hartland-wi.org/events/details/hartland-movement-center-grand-opening-137025
END:VEVENT

END:VCALENDAR
