BEGIN:VCALENDAR
VERSION:2.0
PRODID:-//ChamberMaster//Event Calendar 2.0//EN
METHOD:PUBLISH
X-PUBLISHED-TTL:P3D
REFRESH-INTERVAL:P3D
CALSCALE:GREGORIAN
BEGIN:VEVENT
DTSTART:20160823T190000Z
DTEND:20160823T230000Z
X-MICROSOFT-CDO-ALLDAYEVENT:FALSE
SUMMARY:Hartland Library Grand Opening of the Ice Age Trail Education Center
DESCRIPTION:The Hartland Library presents:\n\n \nThe Grand Opening of the Ice Age Trail Education Center\n\nTuesday\, August 23\, 2016\n\n2:00 - 6:00 pm\n\nChildren's activities\n\n2:00 - 4:00 pm\n\n \n\nKids Crafts * Face Painting * Visit by Monty the Mastodon \n\nFood sponsored by Beer Snobs Ale & Eats.  Trail maps and books will be available.\n \n\nThe Education Center is donated in memory of the Maher family. \n\nThe book collection is donated in memory of Charles "Chip" Droege.\n\nArtwork designed by Spolar Studios.
X-ALT-DESC;FMTTYPE=text/html:<span style="font-family: arial\;">The Hartland Library presents:</span><br />\n&nbsp\;\n<div style="text-align: center\;"><span style="color: rgb(0\, 0\, 255)\;"><span style="font-family: tahoma\;"><strong><span style="font-size: 16px\;">The Grand Opening of the Ice Age Trail Education Center<br />\nTuesday\, August 23\, 2016<br />\n2:00 - 6:00 pm<br />\nChildren&#39\;s activities<br />\n2:00 - 4:00 pm</span></strong></span></span><br />\n&nbsp\;</div>\n\n<div style="text-align: center\;"><span style="font-size: 14px\;"><span style="font-family: tahoma\;"><span style="font-family: arial\;">Kids Crafts * Face Painting * Visit by Monty the Mastodon&nbsp\;<br />\nFood sponsored by Beer Snobs Ale &amp\; Eats.&nbsp\; Trail maps and books will be available.</span></span></span></div>\n&nbsp\;\n\n<div style="text-align: center\;"><span style="font-size: 16px\;"><span style="color: rgb(0\, 0\, 255)\;"><span style="font-family: tahoma\;">The Education Center is donated in memory of the Maher family.&nbsp\;<br />\nThe book collection is donated in memory of Charles &quot\;Chip&quot\; Droege.<br />\nArtwork designed by Spolar Studios.</span></span></span></div>\n
LOCATION:Hartland Public Library 110 E. Park Avenue\, Hartland 262-367-3350
UID:e.522.133818
SEQUENCE:3
DTSTAMP:20260422T132103Z
URL:https://business.hartland-wi.org/events/details/hartland-library-grand-opening-of-the-ice-age-trail-education-center-08-23-2016-133818
END:VEVENT

END:VCALENDAR
